BEGIN:VCALENDAR
VERSION:2.0
PRODID:-//jEvents 2.0 for Joomla//EN
CALSCALE:GREGORIAN
METHOD:PUBLISH
BEGIN:VEVENT
UID:7814906e6815a7c8a95400398474e3da
CATEGORIES:7. Bezirk
CREATED:20181106T124229
SUMMARY:Pikler-Hengstenberg-Spielraum 15 bis 27 Monate ab 20.11.
LOCATION:1070\, Westbahnstraße 56 - 58
DESCRIPTION:Raum und Zeit\n im eigenen Rhythmus zu spielen, zu entdecken, sich zu spüre
 n,\n alleine - mit anderen \n in deiner liebevollen und wahrnehmenden Begle
 itung,\n die Vertrauen und Sicherheit gibt,\n inspiriert von der selbständi
 gen Bewegungsentwicklung nach Elfriede Hengstenberg und Emmi Pikler. (http:
 //eltern-kind-freiraum.at/spielraum.php)\nMöchtest du entspannt dein Kind b
 eim lustvollen Spielen beobachten \n und mit unvoreingenommenem Blick wahrn
 ehmen, was es alles kann?\nIch begleite in Situationen, die das erfordern -
  verbal oder nonverbal - und beantworte deine Fragen, die in direktem Zusam
 menhang mit dem aktuellen Geschehen stehen.\n8 Einheiten und 2 Elterntankst
 ellen.\n Im Mittelpunkt der 2 Elterntankstellen (http://eltern-kind-freirau
 m.at/fr_ef.php) - jeweils am Montag, den 26.11. und 7.1. um 19 Uhr - stehen
  deine Fragen, die sich aus dem Spielraum \n oder aus dem Alltag mit deiner
  Familie ergeben.\nWann: Dienstag 13.45 bis 15.00 Uhr\nEine Schnupperstunde
  ist möglich.\n Der Einstieg in diese Spielraum-Gruppe ist jederzeit möglic
 h,\n sofern Plätze frei sind.\nFrühlingskurs: 12. Februar bis 26. März\nMeh
 r dazu: https://eltern-kind-freiraum.at/fr15.php\n  (http://www.eltern-kind
 -freiraum.at)Elterntankstellen: http://eltern-kind-freiraum.at/fr_ef.php (h
 ttp://eltern-kind-freiraum.at/fr_ef.php) \nWeitere Gruppen:\n3 bis 7 Monate
 : Montag 12.15 Uhr sowie Einzelstunden nach Vereinbarung\n7 bis 15 Monate: 
 Montag 9.30 - 10.45 und 11.00 - 12.15 Uhr\n                              Do
 nnerstag 13.45 - 15.00 Uhr\n2 1/4 bis 3 1/2 Jahre: Montag 14.30 - 15.45 Uhr
 \n2 bis 4 Jahre: Donnerstag 15.25 Uhr\n GeschwisterFreiraum: Dienstag 15.25
  Uhr\nwww.eltern-kind-freiraum.at (http://www.eltern-kind-freiraum.at)\n
X-ALT-DESC;FMTTYPE=text/html:<p><strong>Raum und Zeit</strong><br /> im eigenen Rhythmus zu spielen, zu 
 entdecken, sich zu spüren,<br /> alleine - mit anderen <br /> in deiner lie
 bevollen und wahrnehmenden Begleitung,<br /> die Vertrauen und Sicherheit g
 ibt,<br /> <strong>inspiriert von der selbständigen Bewegungsentwicklung na
 ch Elfriede Hengstenberg und </strong><a href="http://eltern-kind-freiraum.
 at/spielraum.php"><strong>Emmi Pikler.</strong></a></p><p>Möchtest du entsp
 annt dein Kind beim lustvollen Spielen beobachten <br /> und mit unvoreinge
 nommenem Blick wahrnehmen, was es alles kann?</p><p>Ich begleite in Situati
 onen, die das erfordern - verbal oder nonverbal - und beantworte deine Frag
 en, die in direktem Zusammenhang mit dem aktuellen Geschehen stehen.</p><p>
 <strong>8 Einheiten und 2 Elterntankstellen.</strong><strong><br /> </stron
 g>Im Mittelpunkt der <strong>2 </strong><a href="http://eltern-kind-freirau
 m.at/fr_ef.php"><strong>Elterntankstellen</strong></a> - jeweils am Montag,
  den 26.11. und 7.1. um 19 Uhr - stehen deine Fragen, die sich aus dem Spie
 lraum <br /> oder aus dem Alltag mit deiner Familie ergeben.</p><p><strong>
 Wann</strong>: <strong>Dienstag 13.45 bis 15.00 Uhr</strong></p><p>Eine Sch
 nupperstunde ist möglich.<br /> Der Einstieg in diese Spielraum-Gruppe ist 
 jederzeit möglich,<br /> sofern Plätze frei sind.</p><p><em><strong>Frühlin
 gskurs</strong>: 12. Februar bis 26. März</em></p><p>Mehr dazu: <a href="ht
 tps://eltern-kind-freiraum.at/fr15.php">https://eltern-kind-freiraum.at/fr1
 5.php</a><a href="http://www.eltern-kind-freiraum.at"><br /> </a>Elterntank
 stellen:<a href="http://eltern-kind-freiraum.at/fr_ef.php"> http://eltern-k
 ind-freiraum.at/fr_ef.php</a> </p><p><em><strong>Weitere Gruppen:</strong><
 /em></p><p><strong>3 bis 7 Monate: Montag</strong> 12.15 Uhr sowie Einzelst
 unden nach Vereinbarung</p><p><strong>7 bis 15 Monate: Montag </strong>9.30
  - 10.45 und 11.00 - 12.15 Uhr<br />                              <strong>D
 onnerstag</strong> 13.45 - 15.00 Uhr<br /><strong>2 1/4 bis 3 1/2 Jahre: Mo
 ntag</strong> 14.30 - 15.45 Uhr</p><p><strong>2 bis 4 Jahre: Donnerstag</st
 rong> 15.25 Uhr<br /> <strong>GeschwisterFreiraum: Dienstag</strong> 15.25 
 Uhr</p><p><a href="http://www.eltern-kind-freiraum.at"><strong>www.eltern-k
 ind-freiraum.at</strong></a></p>
CONTACT:0676-54 00 246;  voelk@eltern-kind-freiraum.at
X-EXTRAINFO:[preis='2250'][anmeldung='true']
DTSTAMP:20260425T120056
DTSTART:20190122T124500
DTEND:20190122T140000
SEQUENCE:0
TRANSP:OPAQUE
END:VEVENT
END:VCALENDAR