BEGIN:VCALENDAR
VERSION:2.0
PRODID:-//jEvents 2.0 for Joomla//EN
CALSCALE:GREGORIAN
METHOD:PUBLISH
BEGIN:VEVENT
UID:51822ae107e19731842ec567a4dc0e51
CATEGORIES:7. Bezirk
CREATED:20181107T143243
SUMMARY:PIKLER-Spielraum 7 bis 15 Monate ab 19.11.
LOCATION:1070\, Westbahnstraße 56 - 58
DESCRIPTION:Raum und Zeit\nMöchtest du entspannt dein Kind beim lustvollen Spielen beob
 achten \n und mit unvoreingenommenem Blick wahrnehmen, was es alles kann -\
 n in deiner liebevollen und wahrnehmenden Begleitung,\n die Vertrauen und S
 icherheit gibt.\nInspiriert von der selbständigen Bewegungsentwicklung\n na
 ch Emmi Pikler (http://eltern-kind-freiraum.at/spielraum.php) und Elfriede 
 Hengstenberg.\nIch begleite in Situationen, die das erfordern - verbal oder
  nonverbal - und beantworte deine Fragen, die in direktem Zusammenhang mit 
 dem aktuellen Geschehen stehen.\n8 Einheiten und 2 Elterntankstellen.\n Im 
 Mittelpunkt der 2 Elterntankstellen (http://eltern-kind-freiraum.at/fr_ef.p
 hp) - jeweils am Montag, den 17.9. und 15.10. um 19 Uhr - stehen deine Frag
 en, die sich aus dem Spielraum \n oder aus dem Alltag mit deiner Familie er
 geben.\nWann: Montag 9.30 bis 10.45 UND 11.00 bis 12.15\nDer Einstieg in di
 ese Spielraum-Gruppe ist jederzeit möglich,\n soferne Plätze frei sind.\nFR
 ÜHLINGSKURS : 11. Februar bis 25. März\nMehr dazu: http://eltern-kind-freir
 aum.at/fr7.php (http://eltern-kind-freiraum.at/fr7.php)\n  (http://www.elte
 rn-kind-freiraum.at)Elterntankstellen: http://eltern-kind-freiraum.at/fr_ef
 .php (http://eltern-kind-freiraum.at/fr_ef.php) \nWeitere Gruppen:\n3 bis 7
  Monate: Montag 12.30 Uhr sowie Einzelstunden nach Vereinbarung\n7 bis 15 M
 onate: Montag 11.00 Uhr\n                              Donnerstag  13.45 Uh
 r\n15 bis 27 Monate: Dienstag 13.45 Uhr\n2 1/4 bis 3 1/2 Jahre: Montag 14.3
 0 Uhr\n2 bis 4 Jahre: Donnerstag 15.25 Uhr\n GeschwisterFreiraum: Dienstag 
 15.25 Uhr\nwww.eltern-kind-freiraum.at (http://www.eltern-kind-freiraum.at)
 \n \n
X-ALT-DESC;FMTTYPE=text/html:<p><strong>Raum und Zeit</strong><br />Möchtest du entspannt dein Kind beim
  lustvollen Spielen beobachten <br /> und mit unvoreingenommenem Blick wahr
 nehmen, was es alles kann -<br /> in deiner liebevollen und wahrnehmenden B
 egleitung,<br /> die Vertrauen und Sicherheit gibt.</p><p><strong>Inspirier
 t von der selbständigen Bewegungsentwicklung</strong><br /> <a href="http:/
 /eltern-kind-freiraum.at/spielraum.php"><strong>nach Emmi Pikler</strong></
 a><strong> und Elfriede Hengstenberg.</strong></p><p>Ich begleite in Situat
 ionen, die das erfordern - verbal oder nonverbal - und beantworte deine Fra
 gen, die in direktem Zusammenhang mit dem aktuellen Geschehen stehen.</p><p
 ><strong>8 Einheiten und 2 Elterntankstellen.</strong><strong><br /> </stro
 ng>Im Mittelpunkt der <strong>2 </strong><a href="http://eltern-kind-freira
 um.at/fr_ef.php"><strong>Elterntankstellen</strong></a> - jeweils am Montag
 , den 17.9. und 15.10. um 19 Uhr - stehen deine Fragen, die sich aus dem Sp
 ielraum <br /> oder aus dem Alltag mit deiner Familie ergeben.</p><p><stron
 g>Wann</strong>: <strong>Montag</strong> <strong>9.30 bis 10.45</strong> UN
 D <strong>11.00 bis 12.15</strong></p><p>Der Einstieg in diese Spielraum-Gr
 uppe ist jederzeit möglich,<br /> soferne Plätze frei sind.</p><p><strong><
 em><u>FRÜHLINGSKURS </u></em></strong><em>: </em><strong><em>11. Februar bi
 s 25. März</em></strong></p><p>Mehr dazu:<a href="http://eltern-kind-freira
 um.at/fr7.php"> http://eltern-kind-freiraum.at/fr7.php</a><a href="http://w
 ww.eltern-kind-freiraum.at"><br /> </a>Elterntankstellen:<a href="http://el
 tern-kind-freiraum.at/fr_ef.php"> http://eltern-kind-freiraum.at/fr_ef.php<
 /a> </p><p><strong><em><u>Weitere Gruppen:</u></em></strong></p><p><strong>
 3 bis 7 Monate: Montag</strong> 12.30 Uhr sowie Einzelstunden nach Vereinba
 rung</p><p><strong>7 bis 15 Monate: Montag </strong>11.00 Uhr<br />        
                       <strong>Donnerstag </strong> 13.45 Uhr</p><p><strong>
 15 bis 27 Monate: Dienstag </strong>13.45 Uhr<br /><strong>2 1/4 bis 3 1/2 
 Jahre: Montag</strong> 14.30 Uhr</p><p><strong>2 bis 4 Jahre: Donnerstag</s
 trong> 15.25 Uhr<br /> <strong>GeschwisterFreiraum: Dienstag</strong> 15.25
  Uhr</p><p><a href="http://www.eltern-kind-freiraum.at"><strong>www.eltern-
 kind-freiraum.at</strong></a></p><p> </p>
CONTACT:0676-54 00 246;  voelk@eltern-kind-freiraum.at
X-EXTRAINFO:[preis='2250'][anmeldung='true']
DTSTAMP:20260425T120146
DTSTART:20190114T083000
DTEND:20190114T094500
SEQUENCE:0
TRANSP:OPAQUE
END:VEVENT
END:VCALENDAR