BEGIN:VCALENDAR
VERSION:2.0
PRODID:-//jEvents 2.0 for Joomla//EN
CALSCALE:GREGORIAN
METHOD:PUBLISH
BEGIN:VEVENT
UID:54452f20f03d821e4df70ebf7793ee13
CATEGORIES:7. Bezirk
CREATED:20181107T154533
SUMMARY:HENGSTENBERG-PIKLER-Spielraum 2 1/4 bis 3 1/2 Jahre ab 3.12.
LOCATION:1070\, Westbahnstraße 56 - 58
DESCRIPTION:<p>Möchtest du entspannt dein Kind beim lustvollen Spielen beobachten <br /
 > und mit unvoreingenommenem Blick wahrnehmen, was es alles kann?<br /> Ins
 piriert von der<strong> selbständigen Bewegungsentwicklung</strong><br /> n
 ach<strong> Elfriede Hengstenberg </strong>und<strong> <a href="http://elte
 rn-kind-freiraum.at/spielraum.php">nach Emmi Pikler.</a> </strong></p><p>Ic
 h begleite in Situationen, die das erfordern - verbal oder nonverbal<br /> 
 und beantworte deine Fragen, die in direktem Zusammenhang mit dem aktuellen
  Geschehen stehen.</p><p><strong>6 Einheiten und 1 Elterntankstelle.</stron
 g><b><br /> </b>Im Mittelpunkt der <a href="http://eltern-kind-freiraum.at/
 fr_ef.php"><strong>Elterntankstelle</strong></a> - am Montag, den 7.1. um 1
 9 Uhr - stehen deine Fragen, die sich aus dem Spielraum <br /> oder aus dem
  Alltag mit deiner Familie ergeben.</p><p><strong>Wann</strong>: jeweils Mo
 ntag 14.30 bis 15.45</p><p>Der Einstieg in diese Spielraum-Gruppe ist jeder
 zeit möglich,<br /> soferne Plätze frei sind.</p><p><strong><i>FRÜHLINGSKUR
 S </i></strong><em>: </em><strong><i>11. Februar bis 25. März</i></strong><
 /p><p>Mehr dazu:<a href="http://eltern-kind-freiraum.at/fr24.php"> http://e
 ltern-kind-freiraum.at/fr24.php</a><a href="http://www.eltern-kind-freiraum
 .at"><br /> </a>Elterntankstellen:<a href="http://eltern-kind-freiraum.at/f
 r_ef.php"> http://eltern-kind-freiraum.at/fr_ef.php</a> </p><p><strong><i>W
 eitere Gruppen:</i></strong></p><p><strong>3 bis 7 Monate: Montag</strong> 
 12.30 Uhr sowie Einzelstunden nach Vereinbarung<br /><strong>7 bis 15 Monat
 e: Montag </strong>9.30 und 11.00 Uhr  <br />                              
 <strong>Donnerstag </strong>13.45 Uhr<br /><strong>15 bis 27 Monate: Dienst
 ag </strong>13.45 Uhr<br /><strong>2 bis 4 Jahre: Donnerstag</strong> 15.30
  Uhr<br /><strong>GeschwisterFreiraum: Dienstag</strong> 15.25 Uhr</p><p><a
  href="http://www.eltern-kind-freiraum.at"><strong>www.eltern-kind-freiraum
 .at</strong></a></p>
CONTACT:0676-54 00 246;  voelk@eltern-kind-freiraum.at
X-EXTRAINFO:[preis='2250'][anmeldung='true']
DTSTAMP:20260425T120434
DTSTART:20190121T133000
DTEND:20190121T144500
SEQUENCE:0
TRANSP:OPAQUE
END:VEVENT
END:VCALENDAR