BEGIN:VCALENDAR
VERSION:2.0
PRODID:-//jEvents 2.0 for Joomla//EN
CALSCALE:GREGORIAN
METHOD:PUBLISH
BEGIN:VEVENT
UID:d49115c4af11e2004e50a075776e7c1e
CATEGORIES:20. Bezirk
CREATED:20181122T214800
SUMMARY:Babymassgekurs 
LOCATION:Wien
DESCRIPTION: \nBei unserem Kurs geht es in erster Linie um die Bedürfnisse der Babys. K
 örperkontakt, Liebe und Wärme spielen eine große Rolle. Die Babymassage ist
  eine wirksame und liebevolle Methode deinem Baby sehr nahe zu sein und Ihm
  das Gefühl von Geborgenheit zu geben. Sowie sein Wohlbefinden im körperlic
 hen wie auch im emotionalen Bereich zu stärken. Ideal ist ein Kurseinstieg 
 zwischen 0 Monate bis Krabbelalter (ca 6 Monate) .\n Termine 2019\n 3x 60 M
 inuten\n?Montag\n14.1., 21.1., 28.1., \nund\n4. 3., 11.3., 18.3., \n \nFrag
 en bearbeiten wir Telefonisch und per E-Mail.\n?068110616811\ninfo@spielrau
 m-maerchenwald.com\n \n
X-ALT-DESC;FMTTYPE=text/html:<p> </p><p>Bei unserem Kurs geht es in erster Linie um die Bedürfnisse der 
 Babys. Körperkontakt, Liebe und Wärme spielen eine große Rolle. Die Babymas
 sage ist eine wirksame und liebevolle Methode deinem Baby sehr nahe zu sein
  und Ihm das Gefühl von Geborgenheit zu geben. Sowie sein Wohlbefinden im k
 örperlichen wie auch im emotionalen Bereich zu stärken. Ideal ist ein Kurse
 instieg zwischen 0 Monate bis Krabbelalter (ca 6 Monate) .</p><p><span styl
 e="font-size: 12.16px;"> </span><span style="font-size: 12.16px;">Termine 2
 019</span></p><p> 3x 60 Minuten</p><p><span style="font-size: 12.16px;">?</
 span><span style="font-size: 12.16px;">Montag</span></p><p><span style="fon
 t-size: 12.16px;">14.1., 21.1., 28.1., </span></p><p><span style="font-size
 : 12.16px;">und</span></p><p><span style="font-size: 12.16px;">4. 3., 11.3.
 , 18.3., </span></p><p> </p><p><span style="font-size: 12.16px;">Fragen bea
 rbeiten wir Telefonisch und per E-Mail.</span></p><p><span style="font-size
 : 12.16px;">?</span><span style="font-size: 12.16px;">068110616811</span></
 p><p><span style="font-size: 12.16px;">info@spielraum-maerchenwald.com</spa
 n></p><p> </p>
CONTACT:info@spielraum-maerchenwald.com
X-EXTRAINFO:[preis='8000'][anmeldung='true']
DTSTAMP:20260423T124938
DTSTART:20190114T090000
DTEND:20190114T100000
SEQUENCE:0
TRANSP:OPAQUE
END:VEVENT
END:VCALENDAR