BEGIN:VCALENDAR
VERSION:2.0
PRODID:-//jEvents 2.0 for Joomla//EN
CALSCALE:GREGORIAN
METHOD:PUBLISH
BEGIN:VEVENT
UID:089f2e9fadff4f8e9fa638019633f6d7
CATEGORIES:20. Bezirk
CREATED:20181122T215719
SUMMARY:Spielgruppe
LOCATION:Wien
DESCRIPTION: Es erwarten Euch Bewegung, Musik, Entdecken und vieles mehr.  \nSpielgrupp
 en sind 12 mal je 1 Stunde und finden immer Montags statt.\nAlle Kinder sin
 d von Natur aus neugierig. In unseren Spielgruppen haben wir viel Platz zum
  Entdecken, Musizieren, Toben und um gemeinsame Erlebnisse zu haben.\nIhr K
 ind erlernt neue Sozialkompetenzen wie Rücksicht nehmen und einander helfen
 , auch entwickelt es sich durch neue Prozesse in seiner Persönlichkeit weit
 er. Spielgruppen sind auch für Mütter und Väter eine wertvolle Möglichkeit 
 andere Eltern kennen zulernen und somit auch von anderen Erziehungsstilen z
 u erfahren. Es ist immer schön sein Kind in einem anderen Umfeld zu erleben
  und zu beobachten.\nTermine 2019\n7.1., 14.1., 21.1., 28.1., 4.2., 11.2., 
 18.2., 25.2., 4.3., 11.3., 18.3., 25.3.\nEs werden zwei Alterstufen angebot
 en\n6- 12 Monate\n?von 10:00-11:00\n1- 2 Jahre\n?von 15:00-16:00\nKurskoste
 n\nsind 12 mal je 1 Stunde\n?180 € pro Kind\n270 € für Zwillinge\n \n \n
X-ALT-DESC;FMTTYPE=text/html:<p> Es erwarten Euch Bewegung, Musik, Entdecken und vieles mehr.  </p><p>Sp
 ielgruppen sind 12 mal je 1 Stunde und finden immer Montags statt.</p><p>Al
 le Kinder sind von Natur aus neugierig. In unseren Spielgruppen haben wir v
 iel Platz zum Entdecken, Musizieren, Toben und um gemeinsame Erlebnisse zu 
 haben.</p><p>Ihr Kind erlernt neue Sozialkompetenzen wie Rücksicht nehmen u
 nd einander helfen, auch entwickelt es sich durch neue Prozesse in seiner P
 ersönlichkeit weiter. Spielgruppen sind auch für Mütter und Väter eine wert
 volle Möglichkeit andere Eltern kennen zulernen und somit auch von anderen 
 Erziehungsstilen zu erfahren. Es ist immer schön sein Kind in einem anderen
  Umfeld zu erleben und zu beobachten.</p><p><strong>Termine 2019</strong></
 p><p>7.1., 14.1., 21.1., 28.1., 4.2., 11.2., 18.2., 25.2., 4.3., 11.3., 18.
 3., 25.3.</p><p>Es werden zwei Alterstufen angeboten</p><p>6- 12 Monate</p>
 <p>?von 10:00-11:00</p><p><span style="font-size: 12.16px;">1- 2 Jahre</spa
 n></p><p>?von 15:00-16:00</p><p><span style="font-size: 12.16px;"><strong>K
 urskosten</strong></span></p><p><span style="font-size: 12.16px;">sind 12 m
 al je 1 Stunde</span></p><p><span style="font-size: 12.16px;">?</span><span
  style="font-size: 12.16px;">180 € pro Kind</span></p><p><span style="font-
 size: 12.16px;">270 € für Zwillinge</span></p><p> </p><p> </p>
CONTACT:info@spielraum-maerchenwald.com
X-EXTRAINFO:[preis='18000'][anmeldung='true']
DTSTAMP:20260425T121347
DTSTART:20190107T090000
DTEND:20190107T100000
SEQUENCE:0
TRANSP:OPAQUE
END:VEVENT
END:VCALENDAR