BEGIN:VCALENDAR
VERSION:2.0
PRODID:-//jEvents 2.0 for Joomla//EN
CALSCALE:GREGORIAN
METHOD:PUBLISH
BEGIN:VEVENT
UID:dd8046c8d9dcdd718b70156b5edd6675
CATEGORIES:21. Bezirk
CREATED:20181123T083427
SUMMARY:Rückbildungsgymnastik nach der CANTIENICA®- Methode mit Baby
LOCATION:1210 Wien\, Donaufelder Straße 103/2/2 (Little Suns)
DESCRIPTION:<p>Das Training kräftigt sanft und sicher ihren ganzen Körper nach der Gebu
 rt und entspannt den Geist.</p><p>Mit gezielten Übungen für Bauch, Beckenbo
 den, Rücken, Schultern, usw. bringt es schnellen Erfolg und macht Spaß.</p>
 <p>Wann kann begonnen werden:</p><p>Bei Spontangeburt ohne Komplikationen: 
 ca. 6-8 Wochen nach der Geburt</p><p>Bei Kaiserschnitt: ab ca. 12 Wochen na
 ch der Geburt oder nach Rücksprache mit ihrer Gynäkologe/in</p><p>Mitzubrin
 gen sind:</p><p>bequeme Trainingskleidung, Handtuch und ev Tagebuch/ Trage<
 /p><p>Matten und Trainingszubehör sind vor Ort.</p><p>folgende Termine: 18.
 01./ 25.01./ 01.02./ 15.02. und 22.02.2019</p><p>(Paketpreis für 5 Termine)
 </p><p>Bei Fragen zum Training stehe ich ihnen gerne zur Verfügung.</p>
CONTACT:www.claudialöb.com oder kontakt@claudialöb.com
X-EXTRAINFO:[preis='8500'][anmeldung='true']
DTSTAMP:20260423T141820
DTSTART:20190118T100000
DTEND:20190118T105000
SEQUENCE:0
TRANSP:OPAQUE
END:VEVENT
END:VCALENDAR