BEGIN:VCALENDAR
VERSION:2.0
PRODID:-//jEvents 2.0 for Joomla//EN
CALSCALE:GREGORIAN
METHOD:PUBLISH
BEGIN:VEVENT
UID:69b873c3bf2f802c2d9939849bb65509
CATEGORIES:21. Bezirk
CREATED:20181123T090144
SUMMARY:Tiefenmuskeltraining nach der CANTIENICA®- Methode 
LOCATION:1210 Wien\, Donaufelder Str. 103/2/2 /Little Suns)
DESCRIPTION:Die CANTIENICA(R)- Methode ist eine wundervolle Trainingsmethode für sie un
 d ihn bei der die gesamte Tiefenmuskulatur gezielt gekräftigt und trainiert
  wird.\nVerspannungen an ihren Schultern, am Rücken, Nacken, Erschlaffung d
 er Beckenbodenmuskulatur usw. haben ein Ende. Die äußeren Muskeln lassen lo
 s, weil die Tiefenmuskulatur ihre Arbeit übernimmt.\nIst dieser Kurs für mi
 ch geeignet? \nCANTIENICA(R) kann jeder ausüben, egal wie alt und sportlich
  oder nicht.\nTrainiert wird in Kleingruppen zu max. 8 Personen, damit sie 
 ihren persönlichen Trainingserfolg sicher erreichen.\n5x 60 Minuten Paketpr
 eis € 85.-\nzu folgenden Terminen: 08.01./ 15.01./ 22.01./ 29.01./ 12.02.20
 19\nkeine Stunde in den Semesterferien\nMitzubringen: bequeme Trainingsklei
 dung und wenn vorhanden rutschfeste Socken.\nMatten und Trainingszubehör vo
 r Ort.\n
X-ALT-DESC;FMTTYPE=text/html:<p>Die CANTIENICA(R)- Methode ist eine wundervolle Trainingsmethode für sie
  und ihn bei der die gesamte Tiefenmuskulatur gezielt gekräftigt und traini
 ert wird.</p><p>Verspannungen an ihren Schultern, am Rücken, Nacken, Erschl
 affung der Beckenbodenmuskulatur usw. haben ein Ende. Die äußeren Muskeln l
 assen los, weil die Tiefenmuskulatur ihre Arbeit übernimmt.</p><p>Ist diese
 r Kurs für mich geeignet? </p><p>CANTIENICA(R) kann jeder ausüben, egal wie
  alt und sportlich oder nicht.</p><p>Trainiert wird in Kleingruppen zu max.
  8 Personen, damit sie ihren persönlichen Trainingserfolg sicher erreichen.
 </p><p>5x 60 Minuten Paketpreis € 85.-</p><p>zu folgenden Terminen: 08.01./
  15.01./ 22.01./ 29.01./ 12.02.2019</p><p>keine Stunde in den Semesterferie
 n</p><p>Mitzubringen: bequeme Trainingskleidung und wenn vorhanden rutschfe
 ste Socken.</p><p>Matten und Trainingszubehör vor Ort.</p>
CONTACT:www.claudialöb.com oder kontakt@claudialöb.com
X-EXTRAINFO:[preis='8500'][anmeldung='true']
DTSTAMP:20260423T152639
DTSTART:20190108T180000
DTEND:20190108T190000
SEQUENCE:0
TRANSP:OPAQUE
END:VEVENT
END:VCALENDAR