BEGIN:VCALENDAR
VERSION:2.0
PRODID:-//jEvents 2.0 for Joomla//EN
CALSCALE:GREGORIAN
METHOD:PUBLISH
BEGIN:VEVENT
UID:492184c07887a1006d5e277845b1ca9e
CATEGORIES:6. Bezirk
CREATED:20181126T111103
SUMMARY:MasterMum Experience
LOCATION:Inner Peace\, Stumpergasse 48/23\, 1060 Wien
DESCRIPTION:MasterMum ExperienceWie möchtest DU dich als Mama und als Frau fühlen? Was 
 tut DIR gut? Was blockiert dich noch auf DEINEM Weg?– Möchtest du voller Kr
 aft Mama und Frau sein?\n– Möchtest du wieder auf dein Bauchgefühl hören st
 att auf deine Zweifel?\n– Möchtest du Klarheit, wie du als Mama, aber auch 
 als Frau dein Leben gestalten willst?\n– Möchtest du endlich vertrauen und 
 spüren, dass du genau richtig bist, so wie du bist?\n– Möchtest du alte Blo
 ckaden lösen, damit du wieder mit Leichtigkeit und Freude Mama und Frau bis
 t?\n– Möchtest du frei für dich entscheiden, was DIR gut tut, unabhängig da
 von was andere als richtig oder falsch betrachten?\n– Möchtest du deine Per
 fektionsansprüche, die dir so oft Energie kosten, loslassen?\nDann bist du 
 bei MasterMum völlig richtig! MasterMum ist eine Mama, die spürt, was ihr s
 elbst gut tut, die weiß, was für sie stimmig ist, und wie sie ihre Ressourc
 en einsetzen kann, um ihren persönlichen Weg mutig, klar und mit viel Energ
 ie zu gehen. Denn nur dann kann sie kraftvoll Mama UND Frau sein! In jeder 
 Mama steckt schon eine MasterMum! Du musst nicht zu jemand anderem werden, 
 dich verbiegen oder furchtbar abplagen. Du darfst mit Leichtigkeit lernen, 
 der MasterMum in dir zu vertrauen!\nMasterMum ermöglicht dir:– deine Bedürf
 nisse wieder gut zu spüren und achtsam mit ihnen zu sein.\n– mit einfachen 
 Tools dir immer wieder selbst Aufmerksamkeit in deinem Alltag zu schenken\n
 – alte Glaubenssätze aufzulösen, die dich als Mama und Frau auf deinem Weg 
 blockieren\n– deinem inneren Wissen und deiner Intuition zu vertrauen\n– ne
 ue Kraft zu schöpfen, indem du herausfindest was dir am meisten Kraft koste
 t\n– zu erfahren, was genau dich als Mama UND als Frau ausmacht\ndich inspi
 rieren zu lassen und neue Leichtigkeit für deinen Alltag mitzunehmen\nAll d
 as geschieht in:- kleinen Gruppen von max. 6 Frauen\n- in einem wertschätze
 nden und respektvollen Umgang, in dem es keine gegenseitige Bewertung gibt\
 n- in einem Rahmen, in dem es keine Tabus geben muss, weil alle voneinander
  lernen dürfen\n- im Austausch miteinander\n- abends, ohne Kinder und in ge
 mütlicher Atmosphäre\n- in 3 Modulen, die du unabhängig voneinander besuche
 n kannst: MasterMum Expect, MasterMum Experience, MasterMum Expert\nMöchtes
 t du dir und deinen Bedürfnissen endlich wieder Zeit schenken?Zeit: von 18-
  20.00 h\nOrt: Inner Peace Praxisräume, Stumpergasse 48/23, 1060 Wien\nMax.
  6 Teilnehmerinnen\nTermine: jeweils Dienstag, 15.1.2019, 29.1.2019, 12.2.2
 019, 26.2.2019\nDie 4 Termine sind nur als Einheit buchbar\nKosten: 200 € i
 nkl. Unterlagen\nAnmeldung: bitte per Mail unter info@mastermum.at (mailto:
 info@mastermum.at) oder telefonisch unter 0650/8010147\nWeitere Infos: www.
 mastermum.at (http://www.mastermum.at/)\n \n \n
X-ALT-DESC;FMTTYPE=text/html:<h1><strong>MasterMum Experience</strong></h1><h4><strong>Wie möchtest DU d
 ich als Mama und als Frau fühlen? Was tut DIR gut? Was blockiert dich noch 
 auf DEINEM Weg?</strong></h4><p>– Möchtest du voller Kraft Mama und Frau se
 in?<br />– Möchtest du wieder auf dein Bauchgefühl hören statt auf deine Zw
 eifel?<br />– Möchtest du Klarheit, wie du als Mama, aber auch als Frau dei
 n Leben gestalten willst?<br />– Möchtest du endlich vertrauen und spüren, 
 dass du genau richtig bist, so wie du bist?<br />– Möchtest du alte Blockad
 en lösen, damit du wieder mit Leichtigkeit und Freude Mama und Frau bist?<b
 r />– Möchtest du frei für dich entscheiden, was DIR gut tut, unabhängig da
 von was andere als richtig oder falsch betrachten?<br />– Möchtest du deine
  Perfektionsansprüche, die dir so oft Energie kosten, loslassen?</p><p><str
 ong>Dann bist du bei MasterMum völlig richtig! MasterMum ist eine Mama, die
  spürt, was ihr selbst gut tut, die weiß, was für sie stimmig ist, und wie 
 sie ihre Ressourcen einsetzen kann, um ihren persönlichen Weg mutig, klar u
 nd mit viel Energie zu gehen. Denn nur dann kann sie kraftvoll Mama UND Fra
 u sein! In jeder Mama steckt schon eine MasterMum! Du musst nicht zu jemand
  anderem werden, dich verbiegen oder furchtbar abplagen. Du darfst mit Leic
 htigkeit lernen, der MasterMum in dir zu vertrauen!</strong></p><h4><strong
 >MasterMum ermöglicht dir:</strong></h4><p>– deine Bedürfnisse wieder gut z
 u spüren und achtsam mit ihnen zu sein.<br />– mit einfachen Tools dir imme
 r wieder selbst Aufmerksamkeit in deinem Alltag zu schenken<br />– alte Gla
 ubenssätze aufzulösen, die dich als Mama und Frau auf deinem Weg blockieren
 <br />– deinem inneren Wissen und deiner Intuition zu vertrauen<br />– neue
  Kraft zu schöpfen, indem du herausfindest was dir am meisten Kraft kostet<
 br />– zu erfahren, was genau dich als Mama UND als Frau ausmacht<br />dich
  inspirieren zu lassen und neue Leichtigkeit für deinen Alltag mitzunehmen<
 /p><h4><strong>All das geschieht in:</strong></h4><p>- kleinen Gruppen von 
 max. 6 Frauen<br />- in einem wertschätzenden und respektvollen Umgang, in 
 dem es keine gegenseitige Bewertung gibt<br />- in einem Rahmen, in dem es 
 keine Tabus geben muss, weil alle voneinander lernen dürfen<br />- im Austa
 usch miteinander<br />- abends, ohne Kinder und in gemütlicher Atmosphäre<b
 r />- in 3 Modulen, die du unabhängig voneinander besuchen kannst: MasterMu
 m Expect, MasterMum Experience, MasterMum Expert</p><h4>Möchtest du dir und
  deinen Bedürfnissen endlich wieder Zeit schenken?</h4><p><strong>Zeit: von
  18- 20.00 h</strong><br /><strong>Ort: Inner Peace Praxisräume, Stumpergas
 se 48/23, 1060 Wien</strong><br /><strong>Max. 6 Teilnehmerinnen</strong></
 p><p><strong>Termine: jeweils Dienstag, 15.1.2019, 29.1.2019, 12.2.2019, 26
 .2.2019</strong></p><p>Die 4 Termine sind nur als Einheit buchbar<br />Kost
 en: 200 € inkl. Unterlagen<br />Anmeldung: bitte per Mail unter <a href="ma
 ilto:info@mastermum.at">info@mastermum.at</a> oder telefonisch unter 0650/8
 010147<br />Weitere Infos: <a href="http://www.mastermum.at/">www.mastermum
 .at</a></p><p> </p><p> </p>
CONTACT:info@mastermum.at
X-EXTRAINFO:[preis='20000'][anmeldung='true']
DTSTAMP:20260423T165356
DTSTART:20190212T170000
DTEND:20190212T190000
SEQUENCE:0
TRANSP:OPAQUE
END:VEVENT
END:VCALENDAR