BEGIN:VCALENDAR
VERSION:2.0
PRODID:-//jEvents 2.0 for Joomla//EN
CALSCALE:GREGORIAN
METHOD:PUBLISH
BEGIN:VEVENT
UID:9a50e263ee149efae75e33513e9e9f82
CATEGORIES:7. Bezirk
CREATED:20181120T142013
SUMMARY:Tanzkurs ab einem Jahr
LOCATION:Kinderatelier\, Neubaugürtel 7
DESCRIPTION:<h3>TANZ UND SPIEL FÜR ELTERN UND KINDER VON 1 BIS 3 JAHREN</h3><div class=
 "gap"> </div><p>……sich miteinander unter Tüchern verstecken, auf großen Bäl
 len rollen, miteinander kugeln, purzeln und schaukeln, mit Luftballons spie
 len, Kisten durch den Raum schieben, im Konfettiregen sitzen, Rhythmus und 
 Musik erleben, und das alles nicht allein, sondern in der Geborgenheit eine
 r vertrauten Gruppe.</p><p>Kursleitung: Susanna Garic</p>
CONTACT:office@kinderatelier.at
X-EXTRAINFO:[preis='13000'][anmeldung='true']
DTSTAMP:20260425T184832
DTSTART:20190111T090000
DTEND:20190111T103000
SEQUENCE:0
TRANSP:OPAQUE
END:VEVENT
END:VCALENDAR