BEGIN:VCALENDAR
VERSION:2.0
PRODID:-//jEvents 2.0 for Joomla//EN
CALSCALE:GREGORIAN
METHOD:PUBLISH
BEGIN:VEVENT
UID:42283f48daf76f3c0ecf86bc4fba5c89
CATEGORIES:22. Bezirk
CREATED:19700101T010000
SUMMARY:Fitdankbaby mit Jasmin MINI 
LOCATION:Tresor 22 Wien 
DESCRIPTION:<p>Fitdankbaby Fitness für Mamas und Babys von 03-07 Monate MINI </p>
CONTACT:https://www.fitdankbaby.at/index.php/kurseseite.html?id_gebiet=100
X-EXTRAINFO:[preis='7200'][anmeldung='false']
DTSTAMP:20260423T182550
DTSTART:20181210T080000
DTEND:20181210T093000
SEQUENCE:0
TRANSP:OPAQUE
END:VEVENT
END:VCALENDAR