BEGIN:VCALENDAR
VERSION:2.0
PRODID:-//jEvents 2.0 for Joomla//EN
CALSCALE:GREGORIAN
METHOD:PUBLISH
BEGIN:VEVENT
UID:c9c239d14df97c1b5038c5b32d99091f
CATEGORIES:2. Bezirk
CREATED:20181127T095835
SUMMARY:BabySHIATSU Kurs (0-6 Monate)
LOCATION:Wohnprojekt Wien\, Krakauer Straße 19\, 1020 Wien
DESCRIPTION:BabyShiatsu ist eine ganz wunderbare Möglichkeit gemeinsam mit dem Baby zur
  Ruhe zu finden, ihm berührend nah zu sein und ungeteilte Aufmerksamkeit zu
  schenken.\nWir lernen sanfte Berührung &amp; Drücken - die Technik haben e
 ine lange Tradition in Japan und werden ergänzt mit Erkenntnissen unserer w
 estlichen Welt.\n \nWirkungen:\n- Stärkung der Eltern-Kind-Bindung\n- Unter
 stützung bei Wehwehchen wie Blähungen, Zahnen, Unruhe &amp; Schreiphasen\n-
  Stärkung des Immunsystems\n \nAchtsames Berühren und Hinspüren wird so ein
  stückweit zur Selbstverständlichkeit im alltäglichen Miteinandern.\n \nAnm
 eldung und Info:\nwww.shiatsufuerzwei.at (http://www.shiatsufuerzwei.at)\n
X-ALT-DESC;FMTTYPE=text/html:<p>BabyShiatsu ist eine ganz wunderbare Möglichkeit gemeinsam mit dem Baby 
 zur Ruhe zu finden, ihm berührend nah zu sein und ungeteilte Aufmerksamkeit
  zu schenken.</p><p>Wir lernen sanfte Berührung &amp; Drücken - die Technik
  haben eine lange Tradition in Japan und werden ergänzt mit Erkenntnissen u
 nserer westlichen Welt.</p><p> </p><p><strong>Wirkungen</strong>:</p><p>- S
 tärkung der Eltern-Kind-Bindung</p><p>- Unterstützung bei Wehwehchen wie Bl
 ähungen, Zahnen, Unruhe &amp; Schreiphasen</p><p>- Stärkung des Immunsystem
 s</p><p> </p><p>Achtsames Berühren und Hinspüren wird so ein stückweit zur 
 Selbstverständlichkeit im alltäglichen Miteinandern.</p><p> </p><p><strong>
 Anmeldung und Info:</strong></p><p><a href="http://www.shiatsufuerzwei.at">
 www.shiatsufuerzwei.at</a></p>
CONTACT:isabell@shiatsufuerzwei.at oder 0670 20 44 155
X-EXTRAINFO:[preis='9000'][anmeldung='true']
DTSTAMP:20260423T182144
DTSTART:20190130T100000
DTEND:20190130T110000
SEQUENCE:0
TRANSP:OPAQUE
END:VEVENT
END:VCALENDAR