BEGIN:VCALENDAR
VERSION:2.0
PRODID:-//jEvents 2.0 for Joomla//EN
CALSCALE:GREGORIAN
METHOD:PUBLISH
BEGIN:VEVENT
UID:db58b7d2f8c5edf2fd555a304f925691
CATEGORIES:2. Bezirk
CREATED:20181127T100202
SUMMARY:BabySHIATSU Kurs (0 bis 6 Monate)
LOCATION:Wohnprojekt Wien\, Krakauer Straße 19\, 1020 Wien
DESCRIPTION:<p>BabyShiatsu ist eine ganz wunderbare Möglichkeit gemeinsam mit dem Baby 
 zur Ruhe zu finden, ihm berührend nah zu sein und ungeteilte Aufmerksamkeit
  zu schenken.</p><p>Wir lernen sanfte Berührung &amp; Drücken - die Technik
 en haben eine lange Tradition in Japan und werden ergänzt mit Erkenntnissen
  unserer westlichen Welt.</p><p> </p><p><strong>Wirkungen</strong>:</p><p>-
  Stärkung der Eltern-Kind-Bindung</p><p>- Unterstützung bei Wehwehchen wie 
 Blähungen, Zahnen, Unruhe &amp; Schreiphasen</p><p>- Stärkung des Immunsyst
 ems</p><p> </p><p>Achtsames Berühren und Hinspüren wird so ein stückweit zu
 r Selbstverständlichkeit im alltäglichen Miteinandern.</p><p> </p><p><stron
 g>Anmeldung und Info:</strong></p><p><a href="http://www.shiatsufuerzwei.at
 ">www.shiatsufuerzwei.at</a></p>
CONTACT:isabell@shiatsufuerzwei.at oder 0670 20 44 155
X-EXTRAINFO:[preis='9000'][anmeldung='true']
DTSTAMP:20260423T195126
DTSTART:20190328T100000
DTEND:20190328T110000
SEQUENCE:0
TRANSP:OPAQUE
END:VEVENT
END:VCALENDAR