BEGIN:VCALENDAR
VERSION:2.0
PRODID:-//jEvents 2.0 for Joomla//EN
CALSCALE:GREGORIAN
METHOD:PUBLISH
BEGIN:VEVENT
UID:e04e2e6ceae5009c61b405ad143f6a58
CATEGORIES:15. Bezirk
CREATED:20181211T073956
SUMMARY:Babyspielgruppe ~ Welcome into Life  Susi Pecina 
LOCATION:1150 Wien\, Westbahnhof\, Neubaugürtel 7 separater Eingang 
DESCRIPTION:<p>Spielgruppen, die nicht nur den Kindern die Möglichkeit geben, sich ausz
 uprobieren, vielmehr auch für die begleitenden Mütter, Väter, Omas oder and
 eren Betreuungsmenschen, die Kinder neu zu erleben. <br /><br />Seit über 2
 0 Jahren, mitwachsend mit den unterschiedlichen Bedingungen, unter denen Ba
 bys und Kinder aufwachsen und doch die gleichbleibenden Bedürfnisse haben n
 ach Liebe, Zuwendung, Aufmerksamkeit, Verständnis. <br /><br />Auch für Fam
 ilien mit Geschwisterkindern! <br /><br />Ich freu mich, auch dich mit dein
 em Kind/ern begrüßen zu dürfen! :) <br /><br />Herzlichst, <br />Susi Pecin
 a <br /><br />Für einen Überblick zu weiteren Angeboten: bitte hier entlang
 : <br /><a href="https://www.welcomeintolife.at">https://www.welcomeintolif
 e.at</a></p>
CONTACT:https://www.welcomeintolife.at/angebote/sommer-spielgruppe-1-lebensjahr/
X-EXTRAINFO:[preis='15000'][anmeldung='true']
DTSTAMP:20260425T153939
DTSTART:20190219T123000
DTEND:20190219T140000
SEQUENCE:0
TRANSP:OPAQUE
END:VEVENT
END:VCALENDAR