BEGIN:VCALENDAR
VERSION:2.0
PRODID:-//jEvents 2.0 for Joomla//EN
CALSCALE:GREGORIAN
METHOD:PUBLISH
BEGIN:VEVENT
UID:c9b784cd00c4aa6bfbfd1ecb2472abd8
CATEGORIES:3. Bezirk
CREATED:20181211T224236
SUMMARY:Kreativraum- Rückbildungsgymnastik mit Baby
LOCATION:derkreativraum3\, Hörnesgasse 18\, 1030 Wien
DESCRIPTION:<p><strong>möglich ab ca. 6 Wochen nach der Geburt </strong></p><p>Wir mach
 en Übungen für den ganzen Körper mit Schwerpunkt auf Schultern/Rücken, Bauc
 h und vor allem Beckenboden.</p><p>Mitbringen: bequeme Kleidung und wenn da
 s Baby mitkommt eine Decke</p><p><a href="http://www.derkreativraum.at">www
 .derkreativraum.at</a></p>
CONTACT:0664 39 35 509, office@derkreativraum.at
X-EXTRAINFO:[preis='8500'][anmeldung='true']
DTSTAMP:20260424T144752
DTSTART:20190115T124000
DTEND:20190115T135500
SEQUENCE:0
TRANSP:OPAQUE
END:VEVENT
END:VCALENDAR