BEGIN:VCALENDAR
VERSION:2.0
PRODID:-//jEvents 2.0 for Joomla//EN
CALSCALE:GREGORIAN
METHOD:PUBLISH
BEGIN:VEVENT
UID:e744fec7f8a348fa00f450cfa76503a7
CATEGORIES:9. Bezirk
CREATED:20181216T224001
SUMMARY:Schwangerschaftsyoga im Hebammenzentrum 2019
LOCATION:Hebammenzentrum | Lazarettgasse 8\, 1090 Wien
DESCRIPTION:Du erwartest ein Baby und möchtest diese schöne Zeit in vollen Zügen genieß
 en?Beim Yoga kannst du deine Körperwahrnehmung intensivieren und dich auf d
 iese besondere Situation voll und ganz einlassen. Nimm dir Zeit für dich un
 d dein Baby und fühl dich in deinem Körper so richtig wohl.Die Einheit begi
 nnen wir mit einer kurzen Vorstellungsrunde zum Austausch der individuellen
  Bedürfnisse. Die nachfolgende Praxis ist körperstärkend und gibt dir die M
 öglichkeit dich ganz mit deinem Körper zu verbinden. Dabei gehen wir liebev
 oll und achtsam mit uns um.\nTermine: 15.01. I 22.01. I 05.02. I 12.02. I 1
 9.02.2019\nDienstags I jeweils 17:15 - 18:30 Uhr\nOrt: Hebammenzentrum | La
 zarettgasse 8, 1090 Wien\nPreis:80 Euro (für alle 5 Termine)\nMehr Infos un
 d Anmeldung:\ninfo@treehut-yoga.comwww.treehut-yoga.com (http://www.treehut
 -yoga.com/?fbclid=IwAR0x4qTYyLTieiLNYklaHPWVyUUI7eZ2SfLiPPYQvI_IWzyyiCAIA35
 OLyg)\n
X-ALT-DESC;FMTTYPE=text/html:<p><span style="display: inline !important; float: none; background-color: 
 transparent; color: #1d2129; font-family: Helvetica,Arial,sans-serif; font-
 size: 14px; font-style: normal; font-variant: normal; font-weight: 400; let
 ter-spacing: normal; orphans: 2; text-align: left; text-decoration: none; t
 ext-indent: 0px; text-transform: none; -webkit-text-stroke-width: 0px; whit
 e-space: normal; word-spacing: 0px;">Du erwartest ein Baby und möchtest die
 se schöne Zeit in vollen Zügen genießen?</span><br style="background-color:
  transparent; color: #1d2129; font-family: Helvetica,Arial,sans-serif; font
 -size: 14px; font-style: normal; font-variant: normal; font-weight: 400; le
 tter-spacing: normal; orphans: 2; text-align: left; text-decoration: none; 
 text-indent: 0px; text-transform: none; -webkit-text-stroke-width: 0px; whi
 te-space: normal; word-spacing: 0px;" /><span style="display: inline !impor
 tant; float: none; background-color: transparent; color: #1d2129; font-fami
 ly: Helvetica,Arial,sans-serif; font-size: 14px; font-style: normal; font-v
 ariant: normal; font-weight: 400; letter-spacing: normal; orphans: 2; text-
 align: left; text-decoration: none; text-indent: 0px; text-transform: none;
  -webkit-text-stroke-width: 0px; white-space: normal; word-spacing: 0px;">B
 eim Yoga kannst du deine Körperwahrnehmung intensivieren und dich auf diese
  besondere Situation voll und ganz einlassen. Nimm dir Zeit für dich und de
 in Baby und fühl dich in deinem Körper so richtig wohl.</span><br style="ba
 ckground-color: transparent; color: #1d2129; font-family: Helvetica,Arial,s
 ans-serif; font-size: 14px; font-style: normal; font-variant: normal; font-
 weight: 400; letter-spacing: normal; orphans: 2; text-align: left; text-dec
 oration: none; text-indent: 0px; text-transform: none; -webkit-text-stroke-
 width: 0px; white-space: normal; word-spacing: 0px;" /><span style="display
 : inline !important; float: none; background-color: transparent; color: #1d
 2129; font-family: Helvetica,Arial,sans-serif; font-size: 14px; font-style:
  normal; font-variant: normal; font-weight: 400; letter-spacing: normal; or
 phans: 2; text-align: left; text-decoration: none; text-indent: 0px; text-t
 ransform: none; -webkit-text-stroke-width: 0px; white-space: normal; word-s
 pacing: 0px;">Die Einheit beginnen wir mit einer kurzen Vorstellungsrunde z
 um Austausch der individuellen Bedürfnisse. Die nachfolgende Praxis ist kör
 perstärkend und gibt dir die Möglichkeit dich ganz mit deinem Körper zu ver
 binden. Dabei gehen wir liebevoll und achtsam mit uns um.</span></p><p><spa
 n style="display: inline !important; float: none; background-color: transpa
 rent; color: #1d2129; font-family: Helvetica,Arial,sans-serif; font-size: 1
 4px; font-style: normal; font-variant: normal; font-weight: 400; letter-spa
 cing: normal; orphans: 2; text-align: left; text-decoration: none; text-ind
 ent: 0px; text-transform: none; -webkit-text-stroke-width: 0px; white-space
 : normal; word-spacing: 0px;">Termine: 15.01. I 22.01. I 05.02. I 12.02. I 
 19.02.2019</span></p><p><span style="display: inline !important; float: non
 e; background-color: transparent; color: #1d2129; font-family: Helvetica,Ar
 ial,sans-serif; font-size: 14px; font-style: normal; font-variant: normal; 
 font-weight: 400; letter-spacing: normal; orphans: 2; text-align: left; tex
 t-decoration: none; text-indent: 0px; text-transform: none; -webkit-text-st
 roke-width: 0px; white-space: normal; word-spacing: 0px;">Dienstags I jewei
 ls 17:15 - 18:30<span style="color: #001000; font-family: Tahoma,Helvetica,
 Arial,sans-serif; font-size: small;"> Uhr</span></span></p><p><span style="
 display: inline !important; float: none; background-color: transparent; col
 or: #1d2129; font-family: Helvetica,Arial,sans-serif; font-size: 14px; font
 -style: normal; font-variant: normal; font-weight: 400; letter-spacing: nor
 mal; orphans: 2; text-align: left; text-decoration: none; text-indent: 0px;
  text-transform: none; -webkit-text-stroke-width: 0px; white-space: normal;
  word-spacing: 0px;">Ort: Hebammenzentrum | Lazarettgasse 8, 1090 Wien</sp
 an></p><p><span style="display: inline !important; float: none; background-
 color: transparent; color: #1d2129; font-family: Helvetica,Arial,sans-serif
 ; font-size: 14px; font-style: normal; font-variant: normal; font-weight: 4
 00; letter-spacing: normal; orphans: 2; text-align: left; text-decoration: 
 none; text-indent: 0px; text-transform: none; -webkit-text-stroke-width: 0p
 x; white-space: normal; word-spacing: 0px;">Preis:80 Euro (für alle 5 Term
 ine)</span></p><p><span style="display: inline !important; float: none; bac
 kground-color: transparent; color: #1d2129; font-family: Helvetica,Arial,sa
 ns-serif; font-size: 14px; font-style: normal; font-variant: normal; font-w
 eight: 400; letter-spacing: normal; orphans: 2; text-align: left; text-deco
 ration: none; text-indent: 0px; text-transform: none; -webkit-text-stroke-w
 idth: 0px; white-space: normal; word-spacing: 0px;">Mehr Infos und Anmeldun
 g:</span></p><p><span style="display: inline !important; float: none; backg
 round-color: transparent; color: #1d2129; font-family: Helvetica,Arial,sans
 -serif; font-size: 14px; font-style: normal; font-variant: normal; font-wei
 ght: 400; letter-spacing: normal; orphans: 2; text-align: left; text-decora
 tion: none; text-indent: 0px; text-transform: none; -webkit-text-stroke-wid
 th: 0px; white-space: normal; word-spacing: 0px;">info@treehut-yoga.com<br 
 style="background-color: transparent; color: #1d2129; font-family: Helvetic
 a,Arial,sans-serif; font-size: 14px; font-style: normal; font-variant: norm
 al; font-weight: 400; letter-spacing: normal; orphans: 2; text-align: left;
  text-decoration: none; text-indent: 0px; text-transform: none; -webkit-tex
 t-stroke-width: 0px; white-space: normal; word-spacing: 0px;" /><a style="b
 ackground-color: transparent; color: #365899; cursor: pointer; font-family:
  Helvetica,Arial,sans-serif; font-size: 14px; font-style: normal; font-vari
 ant: normal; font-weight: 400; letter-spacing: normal; orphans: 2; text-ali
 gn: left; text-decoration: none; text-indent: 0px; text-transform: none; -w
 ebkit-text-stroke-width: 0px; white-space: normal; word-spacing: 0px;" href
 ="http://www.treehut-yoga.com/?fbclid=IwAR0x4qTYyLTieiLNYklaHPWVyUUI7eZ2SfL
 iPPYQvI_IWzyyiCAIA35OLyg" target="_blank" rel="nofollow noopener noreferrer
 " data-lynx-mode="hover" data-lynx-uri="https://l.facebook.com/l.php?u=http
 %3A%2F%2Fwww.treehut-yoga.com%2F%3Ffbclid%3DIwAR0x4qTYyLTieiLNYklaHPWVyUUI7
 eZ2SfLiPPYQvI_IWzyyiCAIA35OLyg&amp;h=AT2HoZ6iZbq-n3MpHxw5ew24XwUrO_V8xwGwjA
 xVGV2kkbSMiR8CkBpdkSCz2HCOrksSFwUder2YUA6ivOWL-dWBUhnBowkt6E0qAua-xvYUC5BQf
 vrVO4TqQj8PmDhYnA">www.treehut-yoga.com</a></span></p>
CONTACT:info@treehut-yoga.com
X-EXTRAINFO:[preis='8000'][anmeldung='true']
DTSTAMP:20260425T134039
DTSTART:20190219T161500
DTEND:20190219T174500
SEQUENCE:0
TRANSP:OPAQUE
END:VEVENT
END:VCALENDAR