BEGIN:VCALENDAR
VERSION:2.0
PRODID:-//jEvents 2.0 for Joomla//EN
CALSCALE:GREGORIAN
METHOD:PUBLISH
BEGIN:VEVENT
UID:8b44e6e2fe42c96ade8b3de988efb595
CATEGORIES:3. Bezirk
CREATED:20181231T150813
SUMMARY:SCHWANGEREN YOGA
LOCATION:Kreativraum\, 1030 Wien
DESCRIPTION:<p>Du möchtest<strong> SPORT</strong> in deiner <strong>SCHWANGERSCHAFT</st
 rong> machen, weißt aber nicht welchen? <strong>SANFTE YOGAÜBUNGEN</strong>
  sind genau das Richtige für<strong> DICH</strong> und dein <strong>BABY</s
 trong>. Die Übungen sind ebenfalls eine <strong>GUTE GEBURTSVORBEREITUNG</s
 trong>.</p><p>YOGA CLASSES IN GERMAN AND ENGLISH always</p><p><strong>Frida
 y 11.45-13.00 or 13.15-14.30</strong></p><p>im KREATIVRAUM,<strong> Hörnesg
 asse 18, 1030 Wien</strong></p><p>! GENIESSE kleine Gruppen, small groups !
 </p><p>mehr Infos unter <a href="http://www.derkreativraum.at">www.derkreat
 ivraum.at</a> oder <strong>julia_yoga@posteo.at</strong></p><p><strong>4  K
 urseinheiten  18.1., 25.1., 1.2., 8.2.,  für 60,- EURO</strong></p><p><stro
 ng>Schnupperstunde 14 Euro</strong></p>
CONTACT:julia_yoga@posteo.at
X-EXTRAINFO:[preis='1400'][anmeldung='true']
DTSTAMP:20260424T131354
DTSTART:20190111T104500
DTEND:20190111T130000
SEQUENCE:0
TRANSP:OPAQUE
END:VEVENT
END:VCALENDAR