BEGIN:VCALENDAR
VERSION:2.0
PRODID:-//jEvents 2.0 for Joomla//EN
CALSCALE:GREGORIAN
METHOD:PUBLISH
BEGIN:VEVENT
UID:bf134e3f2145c9fc62e24110d7a359cf
CATEGORIES:18. Bezirk
CREATED:20190104T095108
SUMMARY:Babymassagekurs mit Momo
LOCATION:SPIELRINGEL Mollgasse 11-13
DESCRIPTION:<div id="content" class="main-section"><div class="section section-default"
 ><div class="container"><div class="row"><div id="c231" class="frame frame-
 default frame-type-text frame-background-none frame-no-backgroundimage fram
 e-space-before-none frame-space-after-none"><div class="frame-container"><d
 iv class="frame-inner"><p><em>„<strong>Berührt, gestreichelt und massiert z
 u werden ist Nahrung für das Kind. Nahrung, die genauso wichtig ist wie Min
 eralien, Vitamine und Proteine. Nahrung, die Liebe ist.“ </strong></em><sub
 >(F. Leboyer)</sub></p><p><strong>Für: </strong>Säuglinge ab ca. 6 Wochen b
 is ca. 6 Monaten (Krabbelalter)!</p><p>Regelmäßige Babymassage…</p><ul clas
 s="list-normal"><li>stillt das Urbedürfnis nach Wärme, Liebe, Berührung, de
 r Geborgenheit und des Angenommenseins</li><li>der innige Körperkontakt för
 dert den Aufbau des Urvertrauens und stärkt die Bindung zwischen Baby und M
 ama</li><li>fördert die Entwicklung des Nervensystems</li><li>vertieft die 
 Atmung, verbessert die Durchblutung, regt das Immunsystem an und stärkt som
 it den ganzen Organismus</li><li>intensiviert die Sinneswahrnehmung</li><li
 >lockert die Muskulatur, verbessert das Körperbewusstsein und fördert die B
 eweglichkeit</li><li>verringert Koliken und Bauchschmerzen und hilft bei Za
 hnungsbeschwerden</li><li>schafft Entspannung, Harmonie und Ausgeglichenhei
 t</li><li>fördert die Kommunikation</li><li>erhöht die Oxytocinausschüttung
  bei Baby und Mama</li></ul><p> </p><p><strong>Mitzubringen:</strong> Leint
 uch oder großes Handtuch als Auflage für die Matte, großes Handtuch für das
  Baby, Stoffwindel, Wickelunterlage, bequeme und luftige Kleidung für die M
 amas/Papas</p><p> </p><p><span class="text-primary">Kosten:</span><br /> € 
 80,- (4 Einheiten)<br /> inklusive Skript, Getränk und bereitgestellte Öle<
 /p><p><span class="text-primary">Info &amp; Anmeldung:</span><br /><a href=
 "mailto:momoneun@yahoo.de" target="_blank" rel="noopener noreferrer">momone
 un@yahoo.de</a></p></div></div></div></div></div></div></div><p> </p>
CONTACT:http://schwangerschaft-elternschaft.at/angebote/bewegung-entspannung/babymassage/ (http://schwangerschaft-elternschaft.at/angebote/bewegung-entspannung/babymassage/)
X-EXTRAINFO:[preis='8000'][anmeldung='true']
DTSTAMP:20260425T155839
DTSTART:20190212T100000
DTEND:20190212T105000
SEQUENCE:0
TRANSP:OPAQUE
END:VEVENT
END:VCALENDAR