BEGIN:VCALENDAR
VERSION:2.0
PRODID:-//jEvents 2.0 for Joomla//EN
CALSCALE:GREGORIAN
METHOD:PUBLISH
BEGIN:VEVENT
UID:dae343f74df51e85b72db3f8af2897f8
CATEGORIES:18. Bezirk
CREATED:20190104T100752
SUMMARY:Positive Birth®-Mentale Geburtsvorbereitung 
LOCATION:SPIELRINGEL Mollgasse 11-13
DESCRIPTION:Eine Geburt ist ein Abenteuer!\nMit einer offenen, selbstbewussten und acht
 samen Einstellung kannst du den Geburtsverlauf durchaus positiv beeinflusse
 n und zu einem wunderschönen Erlebnis werden lassen, das du nicht nur „hint
 er dich bringst“, sondern vielleicht sogar genießen und feiern kannst:\nInt
 uition. (Ur-)Vertrauen. Schöpfung. Mut. Weiblichkeit. Kraft. Natürlichkeit.
  \nBereite dich darauf vor, dieses Ereignis mit deiner ganz individuellen w
 eiblichen Energie aktiv mitzugestalten!\n \nAn 5 Abenden widmen wir uns im 
 geschützten Rahmen einer kleinen Frauenrunde allen Fragen rund um deine „Za
 uberkugel“ und um die bevorstehende Geburt.\nInhaltliche Schwerpunkte: \n\n
  - Der Geburtsverlauf (anschaulich erklärt anhand der Positive Birth®-Gebur
 tsspirale):\nWas passiert da eigentlich?\n\n - Erstellen einer Geburtsvisio
 n und -wunschliste:\nWie möchte ich mein Kind zur Welt bringen? Was ist mir
  wirklich wichtig?\n\n - Aspekte einer selbstbestimmten und „positiven“ Geb
 urt:\nWelche Werte vertrete ich, und wie setze ich diese um?\nWie bleibe ic
 h ganz bei mir, wenn es doch anders kommt als „gewünscht und geplant“?\n\n 
 - Umgang mit Ängsten:\n\n - Wie gehe ich mit dem Thema Schmerz um?\nWie kan
 n ich Ängste und negative Denkmuster überwinden?\n \nMethoden: \n\n - Auspr
 obieren und Erlernen verschiedener Entspannungs- und Mentaltechniken\n\n - 
 Schulung der Körperwahrnehmung &amp; Stärkung der Intuition\n\n - kreative 
 &amp; spirituelle Elemente\n\n - Genügend Raum für Erfahrungsaustausch und 
 Fragen (gern auch zu weiterführenden Themen wie Wochenbett, Stillen, Bindun
 g zum Baby)\n \n \nTermine: 29.1., 5.2., 12.2., 19.2., 26.2.Kosten: € 150,-
  (für 5 Doppeleinheiten = 10 Stunden, inkl.Snacks &amp; Getränke, Kursmater
 ialien)Anmeldung und Information: Christina Lux  Tel:: 0680-5521050 oder Ch
 ristina@Zauberkugel.at\n \n
X-ALT-DESC;FMTTYPE=text/html:<p>Eine Geburt ist ein Abenteuer!</p><p>Mit einer offenen, selbstbewussten 
 und achtsamen Einstellung kannst du den Geburtsverlauf durchaus positiv bee
 influssen und zu einem wunderschönen Erlebnis werden lassen, das du nicht n
 ur „hinter dich bringst“, sondern vielleicht sogar genießen und feiern kann
 st:</p><p><em>Intuition. (Ur-)Vertrauen. Schöpfung. Mut. Weiblichkeit. Kraf
 t. Natürlichkeit. </em></p><p>Bereite dich darauf vor, dieses Ereignis mit 
 deiner ganz individuellen weiblichen Energie aktiv mitzugestalten!</p><p> <
 /p><p>An 5 Abenden widmen wir uns im geschützten Rahmen einer kleinen Fraue
 nrunde allen Fragen rund um deine „Zauberkugel“ und um die bevorstehende Ge
 burt.</p><p><strong>Inhaltliche Schwerpunkte: </strong></p><ul class="list-
 normal"><li><p>Der Geburtsverlauf (anschaulich erklärt anhand der Positive 
 Birth®-Geburtsspirale):</p></li></ul><p>Was passiert da eigentlich?</p><ul 
 class="list-normal"><li><p>Erstellen einer Geburtsvision und -wunschliste:<
 /p></li></ul><p>Wie möchte ich mein Kind zur Welt bringen? Was ist mir wirk
 lich wichtig?</p><ul class="list-normal"><li><p>Aspekte einer selbstbestimm
 ten und „positiven“ Geburt:</p></li></ul><p>Welche Werte vertrete ich, und 
 wie setze ich diese um?</p><p>Wie bleibe ich ganz bei mir, wenn es doch and
 ers kommt als „gewünscht und geplant“?</p><ul class="list-normal"><li><p>Um
 gang mit Ängsten:</p></li><li><p>Wie gehe ich mit dem Thema <em>Schmerz</em
 > um?</p></li></ul><p>Wie kann ich Ängste und negative Denkmuster überwinde
 n?</p><p> </p><p><strong>Methoden: </strong></p><ul class="list-normal"><li
 ><p>Ausprobieren und Erlernen verschiedener Entspannungs- und Mentaltechnik
 en</p></li><li><p>Schulung der Körperwahrnehmung &amp; Stärkung der Intuiti
 on</p></li><li><p>kreative &amp; spirituelle Elemente</p></li><li><p>Genüge
 nd Raum für Erfahrungsaustausch und Fragen (gern auch zu weiterführenden Th
 emen wie Wochenbett, Stillen, Bindung zum Baby)</p></li></ul><p> </p><p> </
 p><p>Termine: 29.1., 5.2., 12.2., 19.2., 26.2.Kosten: € 150,- (für 5 Doppel
 einheiten = 10 Stunden, inkl.Snacks &amp; Getränke, Kursmaterialien)Anmeldu
 ng und Information: Christina Lux  Tel:: 0680-5521050 oder Christina@Zauber
 kugel.at</p><p> </p>
CONTACT:http://schwangerschaft-elternschaft.at/angebote/beratung-begleitung/positive-birthr-mentale-geburtsvorbereitung/ (http://schwangerschaft-elternschaft.at/angebote/beratung-begleitung/positive-birthr-mentale-geburtsvorbereitung/)
X-EXTRAINFO:[preis='15000'][anmeldung='true']
DTSTAMP:20260425T153440
DTSTART:20190212T180000
DTEND:20190212T200000
SEQUENCE:0
TRANSP:OPAQUE
END:VEVENT
END:VCALENDAR