BEGIN:VCALENDAR
VERSION:2.0
PRODID:-//jEvents 2.0 for Joomla//EN
CALSCALE:GREGORIAN
METHOD:PUBLISH
BEGIN:VEVENT
UID:0c64a850fa57f538c0e40ce477ca91b1
CATEGORIES:18. Bezirk
CREATED:20190104T105537
SUMMARY: Sinnesspielgruppe für Kleinkinder (2-3 Jahre)
LOCATION:SPIELRINGEL Mollgasse 11-13
DESCRIPTION:„Sage es mir, und ich werde es vergessen. Zeige es mir, und ich werde es vi
 elleicht behalten. Lass es mich tun, und ich werde es können.“\nKonfuzius\n
 In unserer Sinnesspielgruppe entdecken die Kinder spielend viel Neues und l
 ernen dabei auch noch neue Freunde kennen. Die Sinne der Kinder werden mit 
 Hilfe verschiedener Materialien spielerisch angeregt, es wird experimentier
 t und auch gebastelt - dabei sollen sie möglichst viel selbst ausprobieren.
  Achtsamkeit, Wahrnehmungsförderung und Sinnesschulung stehen im Vordergrun
 d! Kreisspiele, Kniereiter und Fingerreime gehören genauso dazu, wie der Au
 stausch mit anderen Eltern.\nGenießt die Zeit beim gemeinsamen Spielen und 
 Entdecken mit euren Kindern!\nBitte Kleidung anziehen, die auch schmutzig w
 erden darf!\nKurstag:\n Donnerstag 11:15-12:15\nTermine:  31.01., 07.02., 1
 4.02., 21.02., 28.02., 7.03., 14.03., 21.03., 28.03., 04.04.\nKosten:\n € 1
 55,- (10 Wochen-Kurs)\nInfo &amp; Anmeldung:\noffice@spielringel.at (mailto
 :kontakt@schwangerschaft-elternschaft.at)\n \n
X-ALT-DESC;FMTTYPE=text/html:<div id="c349" class="frame frame-default frame-type-text frame-background-
  frame-no-backgroundimage frame-space-before-none frame-space-after-none"><
 div class="frame-container"><div class="frame-inner"><p>„Sage es mir, und i
 ch werde es vergessen. Zeige es mir, und ich werde es vielleicht behalten. 
 Lass es mich tun, und ich werde es können.“</p><p>Konfuzius</p><p>In unsere
 r Sinnesspielgruppe entdecken die Kinder spielend viel Neues und lernen dab
 ei auch noch neue Freunde kennen. Die Sinne der Kinder werden mit Hilfe ver
 schiedener Materialien spielerisch angeregt, es wird experimentiert und auc
 h gebastelt - dabei sollen sie möglichst viel selbst ausprobieren. Achtsamk
 eit, Wahrnehmungsförderung und Sinnesschulung stehen im Vordergrund! Kreiss
 piele, Kniereiter und Fingerreime gehören genauso dazu, wie der Austausch m
 it anderen Eltern.</p><p>Genießt die Zeit beim gemeinsamen Spielen und Entd
 ecken mit euren Kindern!</p><p>Bitte Kleidung anziehen, die auch schmutzig 
 werden darf!</p><p><span class="text-primary">Kurstag</span>:<br /> Donners
 tag 11:15-12:15</p><p><span class="text-primary">Termine: </span> 31.01., 0
 7.02., 14.02., 21.02., 28.02., 7.03., 14.03., 21.03., 28.03., 04.04.</p><p>
 <span class="text-primary">Kosten:</span><br /> € 155,- (10 Wochen-Kurs)</p
 ><p><span class="text-primary">Info &amp; Anmeldung:</span><br /><a href="m
 ailto:kontakt@schwangerschaft-elternschaft.at">office@spielringel.at</a></p
 ><p> </p></div></div></div>
CONTACT:http://schwangerschaft-elternschaft.at/angebote/spiel-spass-musik/sinnesspielgruppe-fuer-kleinkinder/ (http://schwangerschaft-elternschaft.at/angebote/spiel-spass-musik/sinnesspielgruppe-fuer-kleinkinder/)
X-EXTRAINFO:[preis='15500'][anmeldung='true']
DTSTAMP:20260425T185534
DTSTART:20190131T101500
DTEND:20190131T111500
SEQUENCE:0
TRANSP:OPAQUE
END:VEVENT
END:VCALENDAR