BEGIN:VCALENDAR
VERSION:2.0
PRODID:-//jEvents 2.0 for Joomla//EN
CALSCALE:GREGORIAN
METHOD:PUBLISH
BEGIN:VEVENT
UID:1b6dcd6da563b135386b9e0de92d3a5f
CATEGORIES:9. Bezirk
CREATED:20190106T175310
SUMMARY:Familien-Yoga für Klein und Groß (in Drop-In-Classes)
LOCATION:FREIRAUM-Institut\, Liechtensteinstr. 10A\, 1090 Wien (U2 Schottentor)
DESCRIPTION: \nDrop-In-Classes ohne Anmeldung: 50 Minuten für Dich und Dein Baby, Klein
 kind oder Kind! Yoga kann mit Deinem Nachwuchs ganz schön viel Spaß machen 
 und Euch jede Woche eine feine Abwechslung bieten. Unsere Familien-Yoga-Leh
 rerinnen Maria Bruckmoser und Regina Karl-Urban freuen sich auf Eure Teilna
 hme!\n \nSonnentor-Bio-Tee wartet vor und nach allen unseren Drop-In-Classe
 s am FREIRAUM-Empfang auf Dich!\n \nStundenplan: Online hier zu finden! (ht
 tps://www.freiraum-institut.at/stundenplan/)\nÖffnungszeiten (https://www.f
 reiraum-institut.at/oeffnungszeiten/): 20-30 Minuten vor Beginn einer Drop-
 In-Class und bis 30 Minuten nach Ende der Drop-In-Class!\n \nMittagspause i
 m FREIRAUM-Institut: Mo-Fr von 12:00-13:30 Uhr\nHäufig gestellte Fragen / F
 AQ: werden hier beantwortet (https://www.freiraum-institut.at/fragen-antwor
 ten/)\n \nEinzelne Drop-In-Classes gibt's bei uns um € 17,- inkl. 20% USt.\
 nEin ermäßigtes 10er-Päckchen FREIRAUM-Yoga-Münzen gibt's unter anderem für
  Mamas in Mutterschutz (oder auch für Papas) in Karenz bzw. Babypause um € 
 145,- inkl. 20% USt.\nBeim Familien-Yoga zahlst Du mit einer FREIRAUM-Yoga-
 Münze die Teilnahme für Dich und ein Kind, Kleinkind oder Baby. Kommt auch 
 Dein/e Partner/in, Ehefrau oder Dein Ehemann mit einem zweiten Baby, Kleink
 ind oder Kind mit ins Familien-Yoga, legt Ihr beim Check-In am FREIRAUM-Emp
 fang einfach eine zweite FREIRAUM-Yoga-Münze auf den Tisch und hüpft ZU VIE
 RT ins Vergnügen!\n \n...unsere FREIRAUM-Yoga-Münzen sind übrigens zeitlich
  unlimitiert nutzbar, können weitergeschenkt oder weiterverkauft werden, si
 nd übertragbar und können in ALLEN Drop-In-Classes vom FREIRAUM-Institut fl
 exibel genutzt werden:\neine FREIRAUM-Yoga-Münze ermöglicht die Teilnahme a
 n einer beliebigen Drop-In-Class. Siehe Preisgestaltung (https://www.freira
 um-institut.at/preisgestaltung/)!\n \nFREIRAUM-Institut, Liechtensteinstraß
 e 10A Ecke Türkenstraße, im Raum 1\nFREIRAUM-Institut, Liechtensteinstraße 
 10A Ecke Türkenstraße, im Raum 2\n \nWir bieten nach der Geburt (postnatal)
 , ebenso in Form von Drop-In-Classes ohne Anmeldung, effektives Rückbildung
 straining an:\nMama-Baby-Yoga 1 für Babys die noch nicht krabbeln können,\n
 Mama-Baby-Yoga 2 für Krabbel-Babys bis sie gehen können!\nWeiterführend bie
 ten wir nach dem Mama-Baby-Yoga die Mama-Kleinkind-Yoga-Kurse mit Anmeldung
  für Kinder im Alter von 1-3 Jahren.\n \n
X-ALT-DESC;FMTTYPE=text/html:<p> </p><p><b>Drop-In-Classes ohne Anmeldung:</b> 50 Minuten für Dich und D
 ein Baby, Kleinkind oder Kind! Yoga kann mit Deinem Nachwuchs ganz schön vi
 el Spaß machen und Euch jede Woche eine feine Abwechslung bieten. Unsere Fa
 milien-Yoga-Lehrerinnen Maria Bruckmoser und Regina Karl-Urban freuen sich 
 auf Eure Teilnahme!</p><p> </p><p><b>Sonnentor</b>-Bio-Tee wartet vor und n
 ach allen unseren Drop-In-Classes am FREIRAUM-Empfang auf Dich!</p><p> </p>
 <p><b>Stundenplan:</b> <a href="https://www.freiraum-institut.at/stundenpla
 n/">Online hier zu finden!</a></p><p><a href="https://www.freiraum-institut
 .at/oeffnungszeiten/">Öffnungszeiten</a>: 20-30 Minuten vor Beginn einer Dr
 op-In-Class und bis 30 Minuten nach Ende der Drop-In-Class!</p><p> </p><p><
 b>Mittagspause</b> im FREIRAUM-Institut: Mo-Fr von 12:00-13:30 Uhr</p><p>Hä
 ufig gestellte Fragen / FAQ: <a href="https://www.freiraum-institut.at/frag
 en-antworten/">werden hier beantwortet</a></p><p> </p><p><b>Einzelne Drop-I
 n-Classes</b> gibt's bei uns um € 17,- inkl. 20% USt.</p><p>Ein <b>ermäßigt
 es 10er-Päckchen FREIRAUM-Yoga-Münzen</b> gibt's unter anderem für Mamas in
  Mutterschutz (oder auch für Papas) in Karenz bzw. Babypause um € 145,- ink
 l. 20% USt.</p><p><b>Beim Familien-Yoga zahlst Du mit einer FREIRAUM-Yoga-M
 ünze die Teilnahme für Dich und ein Kind, Kleinkind oder Baby.</b> Kommt au
 ch Dein/e Partner/in, Ehefrau oder Dein Ehemann mit einem zweiten Baby, Kle
 inkind oder Kind mit ins Familien-Yoga, legt Ihr beim Check-In am FREIRAUM-
 Empfang einfach eine zweite FREIRAUM-Yoga-Münze auf den Tisch und hüpft ZU 
 VIERT ins Vergnügen!</p><p> </p><p>...unsere FREIRAUM-Yoga-Münzen sind übri
 gens zeitlich unlimitiert nutzbar, können weitergeschenkt oder weiterverkau
 ft werden, sind übertragbar und können in ALLEN Drop-In-Classes vom FREIRAU
 M-Institut flexibel genutzt werden:</p><p>eine FREIRAUM-Yoga-Münze ermöglic
 ht die Teilnahme an einer beliebigen Drop-In-Class. <a href="https://www.fr
 eiraum-institut.at/preisgestaltung/">Siehe Preisgestaltung</a>!</p><p> </p>
 <p>FREIRAUM-Institut, Liechtensteinstraße 10A Ecke Türkenstraße, im Raum 1<
 /p><p>FREIRAUM-Institut, Liechtensteinstraße 10A Ecke Türkenstraße, im Raum
  2</p><p> </p><p>Wir bieten nach der Geburt (postnatal), ebenso in Form von
  Drop-In-Classes ohne Anmeldung, effektives Rückbildungstraining an:</p><p>
 <b>Mama-Baby-Yoga 1</b> für Babys die noch nicht krabbeln können,</p><p><b>
 Mama-Baby-Yoga 2</b> für Krabbel-Babys bis sie gehen können!</p><p>Weiterfü
 hrend bieten wir nach dem Mama-Baby-Yoga die <b>Mama-Kleinkind-Yoga-Kurse</
 b> mit Anmeldung für Kinder im Alter von 1-3 Jahren.</p><p> </p>
CONTACT:https://www.freiraum-institut.at/stundenplan/familien-yoga
X-EXTRAINFO:[preis='1700'][anmeldung='false']
DTSTAMP:20260425T152445
DTSTART:20190111T150000
DTEND:20190111T155000
SEQUENCE:0
TRANSP:OPAQUE
END:VEVENT
END:VCALENDAR