BEGIN:VCALENDAR
VERSION:2.0
PRODID:-//jEvents 2.0 for Joomla//EN
CALSCALE:GREGORIAN
METHOD:PUBLISH
BEGIN:VEVENT
UID:c9cdfefb8e21f2cf032d28c8221dae0c
CATEGORIES:8. Bezirk
CREATED:20190109T202940
SUMMARY:Mama Baby Yoga by Treehut Yoga
LOCATION:Piaristengasse 18\, 1080 Wien
DESCRIPTION:<p style="text-align: justify;">Für alle die sich nach der Geburt ihres Bab
 ys schon wieder fit genug für etwas Bewegung fühlen.</p><p style="text-alig
 n: justify;"> </p><p style="text-align: justify;">Durch angepasste Yogaübun
 gen wird dein Körper gestärkt und bei der Rückbildung unterstützt.</p><p st
 yle="text-align: justify;"> </p><p style="text-align: justify;">Jede Einhei
 t beginnt mit einem kurzen Austausch, um so eventuelle Beschwerden oder Pro
 bleme besser berücksichtigen zu können. Hier soll den frisch gebackenen Mam
 is in einer vertrauenswürdigen Atmosphäre auch die Möglichkeit für Interakt
 ion geboten werden.</p><p style="text-align: justify;"> </p><p style="text-
 align: justify;">Bei der nachfolgenden Praxis steht die Bewegung der Mamis 
 und die Stärkung des Beckenbodens im Mittelpunkt, wobei den Bedürfnissen de
 r Babys viel Platz eingeräumt wird. Danach fühlst du dich vitaler und berei
 t für einen energiegeladenen Tag mit den „Kleinen“.</p><p style="text-align
 : justify;"> </p><p style="text-align: justify;">Anmeldung und Infos unter:
 </p><p style="text-align: justify;">www.treehut-yoga.com</p><p style="text-
 align: justify;">info@treehut-yoga.com</p><p style="text-align: justify;">D
 ie erste Einheit gibt's zum Schnupperpreis von € 10</p>
CONTACT:info@treehut-yoga.com
X-EXTRAINFO:[preis='1500'][anmeldung='true']
DTSTAMP:20260424T132717
DTSTART:20190124T094500
DTEND:20190124T110000
SEQUENCE:0
TRANSP:OPAQUE
END:VEVENT
END:VCALENDAR