BEGIN:VCALENDAR
VERSION:2.0
PRODID:-//jEvents 2.0 for Joomla//EN
CALSCALE:GREGORIAN
METHOD:PUBLISH
BEGIN:VEVENT
UID:c9cdfefb8e21f2cf032d28c8221dae0c
CATEGORIES:8. Bezirk
CREATED:20190109T202940
SUMMARY:Mama Baby Yoga by Treehut Yoga
LOCATION:Piaristengasse 18\, 1080 Wien
DESCRIPTION:Für alle die sich nach der Geburt ihres Babys schon wieder fit genug für et
 was Bewegung fühlen.\n \nDurch angepasste Yogaübungen wird dein Körper gest
 ärkt und bei der Rückbildung unterstützt.\n \nJede Einheit beginnt mit eine
 m kurzen Austausch, um so eventuelle Beschwerden oder Probleme besser berüc
 ksichtigen zu können. Hier soll den frisch gebackenen Mamis in einer vertra
 uenswürdigen Atmosphäre auch die Möglichkeit für Interaktion geboten werden
 .\n \nBei der nachfolgenden Praxis steht die Bewegung der Mamis und die Stä
 rkung des Beckenbodens im Mittelpunkt, wobei den Bedürfnissen der Babys vie
 l Platz eingeräumt wird. Danach fühlst du dich vitaler und bereit für einen
  energiegeladenen Tag mit den „Kleinen“.\n \nAnmeldung und Infos unter:\nww
 w.treehut-yoga.com\ninfo@treehut-yoga.com\nDie erste Einheit gibt's zum Sch
 nupperpreis von € 10\n
X-ALT-DESC;FMTTYPE=text/html:<p style="text-align: justify;">Für alle die sich nach der Geburt ihres Bab
 ys schon wieder fit genug für etwas Bewegung fühlen.</p><p style="text-alig
 n: justify;"> </p><p style="text-align: justify;">Durch angepasste Yogaübun
 gen wird dein Körper gestärkt und bei der Rückbildung unterstützt.</p><p st
 yle="text-align: justify;"> </p><p style="text-align: justify;">Jede Einhei
 t beginnt mit einem kurzen Austausch, um so eventuelle Beschwerden oder Pro
 bleme besser berücksichtigen zu können. Hier soll den frisch gebackenen Mam
 is in einer vertrauenswürdigen Atmosphäre auch die Möglichkeit für Interakt
 ion geboten werden.</p><p style="text-align: justify;"> </p><p style="text-
 align: justify;">Bei der nachfolgenden Praxis steht die Bewegung der Mamis 
 und die Stärkung des Beckenbodens im Mittelpunkt, wobei den Bedürfnissen de
 r Babys viel Platz eingeräumt wird. Danach fühlst du dich vitaler und berei
 t für einen energiegeladenen Tag mit den „Kleinen“.</p><p style="text-align
 : justify;"> </p><p style="text-align: justify;">Anmeldung und Infos unter:
 </p><p style="text-align: justify;">www.treehut-yoga.com</p><p style="text-
 align: justify;">info@treehut-yoga.com</p><p style="text-align: justify;">D
 ie erste Einheit gibt's zum Schnupperpreis von € 10</p>
CONTACT:info@treehut-yoga.com
X-EXTRAINFO:[preis='1500'][anmeldung='true']
DTSTAMP:20260424T153033
DTSTART:20190214T094500
DTEND:20190214T110000
SEQUENCE:0
TRANSP:OPAQUE
END:VEVENT
END:VCALENDAR