BEGIN:VCALENDAR
VERSION:2.0
PRODID:-//jEvents 2.0 for Joomla//EN
CALSCALE:GREGORIAN
METHOD:PUBLISH
BEGIN:VEVENT
UID:270c1ae6ebd348f0f3a5286d0be354b2
CATEGORIES:8. Bezirk
CREATED:20190109T203235
SUMMARY:Schwangerschaftsyoga by Treehut Yoga
LOCATION:Piaristengasse 18\, 1080 Wien
DESCRIPTION:Du erwartest ein Baby und möchtest diese schöne Zeit in vollen Zügen genieß
 en?\n \nBeim Yoga kannst du deine Körperwahrnehmung intensivieren und dich 
 auf diese besondere Situation voll und ganz einlassen. Nimm dir Zeit für di
 ch und dein Baby und fühl dich in deinem Körper so richtig wohl.\n \nDie Ei
 nheit beginnen wir mit einer kurzen Vorstellungsrunde zum Austausch der ind
 ividuellen Bedürfnisse.\n \nDie nachfolgende Praxis ist körperstärkend und 
 gibt dir die Möglichkeit dich ganz mit deinem Körper zu verbinden. Dabei ge
 hen wir liebevoll und achtsam mit uns um.\n \nAnmeldung und Infos unter:\nw
 ww.treehut-yoga.com (http://www.treehut-yoga.com)\ninfo@treehut-yoga.com\n
X-ALT-DESC;FMTTYPE=text/html:<p style="text-align: justify;">Du erwartest ein Baby und möchtest diese sc
 höne Zeit in vollen Zügen genießen?</p><p style="text-align: justify;"> </p
 ><p style="text-align: justify;">Beim Yoga kannst du deine Körperwahrnehmun
 g intensivieren und dich auf diese besondere Situation voll und ganz einlas
 sen. Nimm dir Zeit für dich und dein Baby und fühl dich in deinem Körper so
  richtig wohl.</p><p style="text-align: justify;"> </p><p style="text-align
 : justify;">Die Einheit beginnen wir mit einer kurzen Vorstellungsrunde zum
  Austausch der individuellen Bedürfnisse.</p><p style="text-align: justify;
 "> </p><p style="text-align: justify;">Die nachfolgende Praxis ist körperst
 ärkend und gibt dir die Möglichkeit dich ganz mit deinem Körper zu verbinde
 n. Dabei gehen wir liebevoll und achtsam mit uns um.</p><p style="text-alig
 n: justify;"> </p><p style="text-align: justify;">Anmeldung und Infos unter
 :</p><p style="text-align: justify;"><a href="http://www.treehut-yoga.com">
 www.treehut-yoga.com</a></p><p style="text-align: justify;">info@treehut-yo
 ga.com</p>
CONTACT:info@treehut-yoga.com
X-EXTRAINFO:[preis='1500'][anmeldung='true']
DTSTAMP:20260424T132217
DTSTART:20190115T083000
DTEND:20190115T094500
SEQUENCE:0
TRANSP:OPAQUE
END:VEVENT
END:VCALENDAR