BEGIN:VCALENDAR
VERSION:2.0
PRODID:-//jEvents 2.0 for Joomla//EN
CALSCALE:GREGORIAN
METHOD:PUBLISH
BEGIN:VEVENT
UID:9782566dba2f89401b5c831593054b3a
CATEGORIES:2. Bezirk
CREATED:20190110T135049
SUMMARY:Eltern-Kind-Spielgruppe 1-2J Schnuppertermin
LOCATION:Kind&amp;Kegel Eltern-Kind-Zentrum\, 2.\, Praterstr. 14/8
DESCRIPTION:<p>Schnuppertermin Eltern-Kind-Spielgruppe 1-2J</p><p> </p>
CONTACT:info@kind-und-kegel.at, 01 503 71 88, www.kind-und-kegel.at
X-EXTRAINFO:[preis='1300'][anmeldung='true']
DTSTAMP:20260423T152837
DTSTART:20190122T083000
DTEND:20190122T100000
SEQUENCE:0
TRANSP:OPAQUE
END:VEVENT
END:VCALENDAR