BEGIN:VCALENDAR
VERSION:2.0
PRODID:-//jEvents 2.0 for Joomla//EN
CALSCALE:GREGORIAN
METHOD:PUBLISH
BEGIN:VEVENT
UID:4a1c834d32d12570efd05c4573c83aea
CATEGORIES:9. Bezirk
CREATED:20190113T225159
SUMMARY:Mawiba MAMA BABY TANZ 
LOCATION:QUER-FIT-EIN\, im 9. Bezirk\, Hörlgasse 4/3
DESCRIPTION:Liebe Babymamas, liebe Babypapas, liebe Babys!\n\nMAWIBA ist ein Tanzkonzep
 t für Mamas und ihre Babys, ein sanfter Einstieg um nach der Geburt wieder 
 aktiv zu werden. Während die Mamas zu beckenbodenstärkenden Choreografien t
 anzen und dabei ihre Haltung und Fitness verbessern, kuscheln sich die Baby
 s in einer Tragehilfe an sie. Gemeinsam mit einem erfahrenen Expertenteam e
 ntwickelt, bietet MAWIBA spezielle Choreografien zur Beckenbodenstärkung un
 d Verbesserung der Körperhaltung.\n\n\nWO? QUER-FIT-EIN, im 9. Bezirk, Hörl
 gasse 4/3\n\nWANN? Um 15:15Uhr tanzen wir los.\nAb 15:00 Uhr ist das Studio
  besetzt. Wir tanzen eine Stunde und anschließend gehört der Raum 30 min un
 s, um zu plaudern.\n\nALTER DER BABYS - nach dem Wochenbett darf die Mama m
 it Ihrem Baby starten, solange wie sie es tragen möchte!\n\nKURSKOSTEN: \n€
  13,00 Einzelstunde \n€ 50,00 4 Wochenkurs\n\nDie Februar Termine sind\nMi.
  06., 13., 20. &amp; 27. Februar 2019\n\nFragen und Anmeldungen unter \nmaw
 iba@melaniewaldbauer.com\n0664/75522859 oder\nwww.mawiba.net (https://l.fac
 ebook.com/l.php?u=http%3A%2F%2Fwww.mawiba.net%2F%3Ffbclid%3DIwAR34Gnwr-cJz_
 xQ6EO8dopjHCIUAEz7hq60FyKh5LjDcB4B7omQvyEeq5no&amp;h=AT3NeJCFWYQcfytA-SmQDz
 hEWY77m3afJFPxdlmyt054C-WywjuUFlxgDN9tdHS6-B81cxcMZY4nmFnjeD-xkfTkdhj6Ptyoe
 athmcx1CnnjWHCdiKgCcWi1wuCbUdzvq44iSg0) (Kurse für 1090 aussuchen).\n\n\nIc
 h freue auf Euch!\nBis dann,\nEure\nMela\n
X-ALT-DESC;FMTTYPE=text/html:<p style="text-align: center;"><strong>Liebe Babymamas, liebe Babypapas, li
 ebe Babys!</strong><br /><br />MAWIBA ist ein Tanzkonzept für Mamas und ihr
 e Babys, ein sanfter Einstieg um nach der Geburt wieder aktiv zu werden. Wä
 hrend die Mamas zu beckenbodenstärkenden Choreografien tanzen und dabei ihr
 e Haltung und Fitness verbessern, kuscheln sich die Babys in einer Tragehil
 fe an sie. Gemeinsam mit einem erfahrenen Expertenteam entwickelt, bietet M
 AWIBA spezielle Choreografien zur Beckenbodenstärkung und Verbesserung der 
 Körperhaltung.<br /><br /><br /><strong>WO? QUER-FIT-EIN, im 9. Bezirk, Hör
 lgasse 4/3</strong><br /><br />WANN? <strong>Um 15:15Uhr tanzen wir los.</s
 trong><br />Ab 15:00 Uhr ist das Studio besetzt. Wir tanzen eine Stunde und
  anschließend gehört der Raum 30 min uns, um zu plaudern.<br /><br />ALTER 
 DER BABYS - nach dem Wochenbett darf die Mama mit Ihrem Baby starten, solan
 ge wie sie es tragen möchte!<br /><br /><strong>KURSKOSTEN:</strong> <br />
 € 13,00 Einzelstunde <br />€ 50,00 4 Wochenkurs<br /><br />Die Februar Term
 ine sind<br />Mi. 06., 13., 20. &amp; 27. Februar 2019<br /><br /><strong>F
 ragen und Anmeldungen unter </strong><br /><strong>mawiba@melaniewaldbauer.
 com</strong><br /><strong>0664/75522859 oder</strong><br /><strong><a href=
 "https://l.facebook.com/l.php?u=http%3A%2F%2Fwww.mawiba.net%2F%3Ffbclid%3DI
 wAR34Gnwr-cJz_xQ6EO8dopjHCIUAEz7hq60FyKh5LjDcB4B7omQvyEeq5no&amp;h=AT3NeJCF
 WYQcfytA-SmQDzhEWY77m3afJFPxdlmyt054C-WywjuUFlxgDN9tdHS6-B81cxcMZY4nmFnjeD-
 xkfTkdhj6Ptyoeathmcx1CnnjWHCdiKgCcWi1wuCbUdzvq44iSg0" target="_blank" rel="
 nofollow noopener noreferrer" data-lynx-mode="hover">www.mawiba.net</a> (Ku
 rse für 1090 aussuchen).</strong><br /><br /><br />Ich freue auf Euch!<br /
 >Bis dann,<br />Eure<br />Mela</p>
CONTACT:mawiba@melaniewaldbauer.com, www.mawiba.net , 0664/75522859, 
X-EXTRAINFO:[preis='1300'][anmeldung='true']
DTSTAMP:20260425T134042
DTSTART:20190220T141500
DTEND:20190220T160000
SEQUENCE:0
TRANSP:OPAQUE
END:VEVENT
END:VCALENDAR