BEGIN:VCALENDAR
VERSION:2.0
PRODID:-//jEvents 2.0 for Joomla//EN
CALSCALE:GREGORIAN
METHOD:PUBLISH
BEGIN:VEVENT
UID:a3b54658ef975f9af1c9ef281c2f7175
CATEGORIES:12. Bezirk
CREATED:20190115T071442
SUMMARY:MUSIKMÄUSE 2-3J.
LOCATION:2-Klang Studio
DESCRIPTION:<p>Eine erste Musikreise für alle Musikmäuse mit Begleitperson!</p><p>5x50m
 in</p><p>Termine: 28.2., 7.3., 28.3., 4.4., 11.4.</p><p>Wir freuen uns auf 
 Dich!</p><p>Judith und die Musikmaus :-)</p><p><a href="http://www.2-Klang.
 at">www.2-Klang.at</a></p><p>facebook: 2-Klang Studio WIEN</p><p>Fb Gruppe:
  weil Musik das Leben bunter macht!</p>
CONTACT:studio@2-Klang.at
X-EXTRAINFO:[preis='7500'][anmeldung='true']
DTSTAMP:20260425T121957
DTSTART:20190228T090000
DTEND:20190228T095000
SEQUENCE:0
TRANSP:OPAQUE
END:VEVENT
END:VCALENDAR