BEGIN:VCALENDAR
VERSION:2.0
PRODID:-//jEvents 2.0 for Joomla//EN
CALSCALE:GREGORIAN
METHOD:PUBLISH
BEGIN:VEVENT
UID:a3b54658ef975f9af1c9ef281c2f7175
CATEGORIES:12. Bezirk
CREATED:20190115T071442
SUMMARY:MUSIKMÄUSE 2-3J.
LOCATION:2-Klang Studio
DESCRIPTION:Eine erste Musikreise für alle Musikmäuse mit Begleitperson!\n5x50min\nTerm
 ine: 28.2., 7.3., 28.3., 4.4., 11.4.\nWir freuen uns auf Dich!\nJudith und 
 die Musikmaus :-)\nwww.2-Klang.at (http://www.2-Klang.at)\nfacebook: 2-Klan
 g Studio WIEN\nFb Gruppe: weil Musik das Leben bunter macht!\n
X-ALT-DESC;FMTTYPE=text/html:<p>Eine erste Musikreise für alle Musikmäuse mit Begleitperson!</p><p>5x50m
 in</p><p>Termine: 28.2., 7.3., 28.3., 4.4., 11.4.</p><p>Wir freuen uns auf 
 Dich!</p><p>Judith und die Musikmaus :-)</p><p><a href="http://www.2-Klang.
 at">www.2-Klang.at</a></p><p>facebook: 2-Klang Studio WIEN</p><p>Fb Gruppe:
  weil Musik das Leben bunter macht!</p>
CONTACT:studio@2-Klang.at
X-EXTRAINFO:[preis='7500'][anmeldung='true']
DTSTAMP:20260425T134106
DTSTART:20190321T090000
DTEND:20190321T095000
SEQUENCE:0
TRANSP:OPAQUE
END:VEVENT
END:VCALENDAR