BEGIN:VCALENDAR
VERSION:2.0
PRODID:-//jEvents 2.0 for Joomla//EN
CALSCALE:GREGORIAN
METHOD:PUBLISH
BEGIN:VEVENT
UID:695c6c238e977ae81b026fbf57e87eb2
CATEGORIES:18. Bezirk
CREATED:20190122T120520
SUMMARY:BABYPLAUSCH
LOCATION:SPIELRINGEL Mollgasse 11-13
DESCRIPTION:Als Mama hat man oft das Bedürfnis sich mit anderen Mamas auszutauschen, da
 s könnt ihr ganz ungezwungen Freitag vormittags im Spielringel bei Tee und 
 Kuchen. Für die Babys gibt es allerlei zu entdecken!\nKurstag:\n Freitag 10
 :30 - 12:30\nNächste Termine: \n 18.1.,\n1.2., 8.2., 15.2., 22.2.,\n1.3., 8
 .3., 15.3., 22.3., 29.3.,\n5.4., 12.4.,\n3.5., 10.5., 17.5., 24.5.,\n7.6., 
 14.6.,\n \nAm 15.2.2019 stellen wir unseren neuen Babysteps-Kurs mit Doris 
 Zipper vor!\n \nAn einigen Terminen, beim "Babyplausch Spezial" ist Psychot
 herapeutin (in Ausbildung unter Supervision) Maria Asenbaum (http://schwang
 erschaft-elternschaft.at/das-team/maria/) mit speziellen Themen zu Gast:\n1
 .3.2019  „Was ändert das Baby an der Paar-Beziehung der Eltern? Hat sich et
 was verändert?"\n5.4.2019  „Bindung: vom sicheren Hafen und dem unsichtbare
 n Band zwischen Mama und Baby“\n10.5.2019 Speziell zum Muttertag diskutiere
 n wir über die „Mutterrolle"\n14.6.2019 „Babys Schlaf: wie wir Babys unters
 tützen können entspannt und `artgerecht` zu schlafen“\n \nKosten:\n 10,- Eu
 ro pro Erwachsenem\nInfo &amp; Anmeldung:\n ohne Anmeldung - komm einfach v
 orbei!\n
X-ALT-DESC;FMTTYPE=text/html:<p>Als Mama hat man oft das Bedürfnis sich mit anderen Mamas auszutauschen,
  das könnt ihr ganz ungezwungen Freitag vormittags im Spielringel bei Tee u
 nd Kuchen. Für die Babys gibt es allerlei zu entdecken!</p><p><span class="
 text-primary">Kurstag:</span><br /> Freitag 10:30 - 12:30</p><p><span class
 ="text-primary">Nächste Termine: </span><br /> 18.1.,</p><p>1.2., 8.2., 15.
 2., 22.2.,</p><p>1.3., 8.3., 15.3., 22.3., 29.3.,</p><p>5.4., 12.4.,</p><p>
 3.5., 10.5., 17.5., 24.5.,</p><p>7.6., 14.6.,</p><p> </p><p>Am 15.2.2019 st
 ellen wir unseren neuen Babysteps-Kurs mit Doris Zipper vor!</p><p> </p><p>
 An einigen Terminen, beim "Babyplausch Spezial" ist Psychotherapeutin (in A
 usbildung unter Supervision) <a href="http://schwangerschaft-elternschaft.a
 t/das-team/maria/">Maria Asenbaum</a> mit speziellen Themen zu Gast:</p><p>
 1.3.2019  „Was ändert das Baby an der Paar-Beziehung der Eltern? Hat sich e
 twas verändert?"</p><p>5.4.2019  „Bindung: vom sicheren Hafen und dem unsic
 htbaren Band zwischen Mama und Baby“</p><p>10.5.2019 Speziell zum Muttertag
  diskutieren wir über die „Mutterrolle"</p><p>14.6.2019 „Babys Schlaf: wie 
 wir Babys unterstützen können entspannt und `artgerecht` zu schlafen“</p><p
 > </p><p><span class="text-primary">Kosten:</span><br /> 10,- Euro pro Erwa
 chsenem</p><p><span class="text-primary">Info &amp; Anmeldung:</span><br />
  ohne Anmeldung - komm einfach vorbei!</p>
CONTACT:http://schwangerschaft-elternschaft.at/angebote/spiel-spass-musik/babyplausch/ (http://schwangerschaft-elternschaft.at/angebote/spiel-spass-musik/babyplausch/)
X-EXTRAINFO:[preis='1000'][anmeldung='false']
DTSTAMP:20260425T132238
DTSTART:20190412T083000
DTEND:20190412T103000
SEQUENCE:0
TRANSP:OPAQUE
END:VEVENT
END:VCALENDAR