BEGIN:VCALENDAR
VERSION:2.0
PRODID:-//jEvents 2.0 for Joomla//EN
CALSCALE:GREGORIAN
METHOD:PUBLISH
BEGIN:VEVENT
UID:5b0dbb4498be7e7b19a5fb8f9bd2a238
CATEGORIES:6. Bezirk
CREATED:20190122T203011
SUMMARY:offenes Baby-Café (0-3 Jahre)
LOCATION:6.\, Sandwirtgasse 13/12
DESCRIPTION:Biolino Baby- und Familien-Cafe\nBei richtig gutem Fair-Trade-Kaffee und le
 ckerem Bio-Kuchen kannst du dich entspannt zurücklehnen, deinem Kind beim S
 pielen in unseren übersichtlichen, kindersicheren Räumlichkeiten zusehen un
 d mit anderen Mamas und Papas plaudern.\nWir laden dich und dein Kind monta
 gs und freitags in unser Biolino Baby-Café ein. Bei biologischem Fair-Trade
  Kaffee, auf Wunsch auch koffeinfrei oder mit Pflanzenmilch, leckerem vegan
 en Bio-Kuchen und österreichischen Bio-Fruchtsäften lässt es sich besonders
  gut plaudern und spielen. Wir achten bei der Auswahl unserer Holzspielsach
 en darauf, dass sie frei von Schadstoffen sind und nutzen Bio-Bambus Geschi
 rr von Biobu.\nAuf www.biolino.at/baby-cafe (http://www.biolino.at/baby-caf
 e) findest du aktuellen Termine!\nJeden Montag und Freitag - Außer in den S
 chulferien &amp; Feiertagen!\n \nKeine Anmeldung erforderlich!\nUnkostenbei
 trag 5€ pro Familie\n \nWir haben Platz für 8 - 10 Kinderwägen. Bei gutem W
 etter kannst du auch im geschützen Innenhof parken. Wenn es dir möglich ist
 , komme gerne mit deiner Tragehilfe - so haben wir alle mehr Platz zum Wohl
 fühlen. \n Vielen lieben Dank!\n \nWir freuen uns auf deinen Besuch!\nMarti
 na &amp; das Biolino Team\n \nP.S. An manchen Vormittagen laden wir Expert*
 innen zu bestimmten Themen ein: das Baby-Café+ (https://www.biolino.at/baby
 -cafe/baby-cafe-plus/). Dieses findet in einem extra Raum statt und ist ein
  zusätzliches Angebot zum Baby-Café.\n
X-ALT-DESC;FMTTYPE=text/html:<p><strong>Biolino Baby- und Familien-Cafe</strong></p><p><strong>Bei richt
 ig gutem Fair-Trade-Kaffee und leckerem Bio-Kuchen kannst du dich entspannt
  zurücklehnen, deinem Kind beim Spielen in unseren übersichtlichen, kinders
 icheren Räumlichkeiten zusehen und mit anderen Mamas und Papas plaudern.</s
 trong></p><p>Wir laden dich und dein Kind montags und freitags in unser Bio
 lino Baby-Café ein. Bei biologischem Fair-Trade Kaffee, auf Wunsch auch kof
 feinfrei oder mit Pflanzenmilch, leckerem veganen Bio-Kuchen und österreich
 ischen Bio-Fruchtsäften lässt es sich besonders gut plaudern und spielen. W
 ir achten bei der Auswahl unserer Holzspielsachen darauf, dass sie frei von
  Schadstoffen sind und nutzen Bio-Bambus Geschirr von Biobu.</p><p>Auf <a h
 ref="http://www.biolino.at/baby-cafe">www.biolino.at/baby-cafe</a> findest 
 du aktuellen Termine!</p><p>Jeden Montag und Freitag - Außer in den Schulfe
 rien &amp; Feiertagen!</p><p> </p><p>Keine Anmeldung erforderlich!</p><p>Un
 kostenbeitrag 5€ pro Familie</p><p> </p><p>Wir haben Platz für 8 - 10 Kinde
 rwägen. Bei gutem Wetter kannst du auch im geschützen Innenhof parken. Wenn
  es dir möglich ist, komme gerne mit deiner Tragehilfe - so haben wir alle 
 mehr Platz zum Wohlfühlen. <br /> Vielen lieben Dank!</p><p> </p><p>Wir fre
 uen uns auf deinen Besuch!</p><p>Martina &amp; das Biolino Team</p><p> </p>
 <p>P.S. An manchen Vormittagen laden wir Expert*innen zu bestimmten Themen 
 ein: das <a title="Baby-Café+" href="https://www.biolino.at/baby-cafe/baby-
 cafe-plus/">Baby-Café+</a>. Dieses findet in einem extra Raum statt und ist
  ein zusätzliches Angebot zum Baby-Café.</p>
CONTACT:martina.novak@biolino.at, 0677 628 929 70
X-EXTRAINFO:[preis='500'][anmeldung='false']
DTSTAMP:20260423T182154
DTSTART:20190308T080000
DTEND:20190308T110000
SEQUENCE:0
TRANSP:OPAQUE
END:VEVENT
END:VCALENDAR