BEGIN:VCALENDAR
VERSION:2.0
PRODID:-//jEvents 2.0 for Joomla//EN
CALSCALE:GREGORIAN
METHOD:PUBLISH
BEGIN:VEVENT
UID:bb96e5a448130acbe1ef328d70c71831
CATEGORIES:9. Bezirk
CREATED:20190123T113431
SUMMARY:Familien-Yoga für Groß und Klein (in Drop-In-Classes)
LOCATION:FREIRAUM-Institut\, Liechtensteinstr. 10A\, 1090 Wien (U2 Schottentor)
DESCRIPTION:<p><b>Familien-Yoga für Klein und Groß (in Drop-In-Classes), da macht die M
 ama mit der großen Pauline Yoga oder der Papa mit der kleinen Ronja oder di
 e Oma mit beiden Kindern oder der Opa mit dem Max oder...</b></p><p> </p><p
 ><b>Drop-In-Classes ohne Anmeldung:</b> 50 Minuten für Dich und Dein Baby, 
 Kleinkind oder Kind! Yoga kann mit Deinem Nachwuchs ganz schön viel Spaß ma
 chen und Euch jede Woche eine feine Abwechslung bieten. Unsere Familien-Yog
 a-Lehrerinnen Maria Bruckmoser und Regina Karl-Urban freuen sich auf Eure T
 eilnahme!</p><p> </p><p><b>Sonnentor</b>-Bio-Tee wartet vor und nach allen 
 unseren Drop-In-Classes am FREIRAUM-Empfang auf Dich!</p><p> </p><p><b>Stun
 denplan:</b> <a href="https://www.freiraum-institut.at/stundenplan/">Online
  hier zu finden!</a></p><p><a href="https://www.freiraum-institut.at/oeffnu
 ngszeiten/">Öffnungszeiten</a>: 20-30 Minuten vor Beginn einer Drop-In-Clas
 s und bis 30 Minuten nach Ende der Drop-In-Class!</p><p> </p><p><b>Mittagsp
 ause</b> im FREIRAUM-Institut: Mo-Fr von 12:00-13:30 Uhr</p><p>Häufig geste
 llte Fragen / FAQ: <a href="https://www.freiraum-institut.at/fragen-antwort
 en/">werden hier beantwortet</a></p><p> </p><p><b>Einzelne Drop-In-Classes<
 /b> gibt's bei uns um € 17,- inkl. 20% USt.</p><p>Ein <b>ermäßigtes 10er-Pä
 ckchen FREIRAUM-Yoga-Münzen</b> gibt's unter anderem für Mamas in Muttersch
 utz (oder auch für Papas) in Karenz bzw. Babypause um € 145,- inkl. 20% USt
 .</p><p><b>Beim Familien-Yoga zahlst Du mit einer FREIRAUM-Yoga-Münze die T
 eilnahme für Dich und ein Kind, Kleinkind oder Baby.</b> Kommt auch Dein/e 
 Partner/in, Ehefrau oder Dein Ehemann mit einem zweiten Baby, Kleinkind ode
 r Kind mit ins Familien-Yoga, legt Ihr beim Check-In am FREIRAUM-Empfang ei
 nfach eine zweite FREIRAUM-Yoga-Münze auf den Tisch und hüpft ZU VIERT ins 
 Vergnügen!</p><p> </p><p>...unsere FREIRAUM-Yoga-Münzen sind übrigens zeitl
 ich unlimitiert nutzbar, können weitergeschenkt oder weiterverkauft werden,
  sind übertragbar und können in ALLEN Drop-In-Classes vom FREIRAUM-Institut
  flexibel genutzt werden:</p><p>eine FREIRAUM-Yoga-Münze ermöglicht die Tei
 lnahme an einer beliebigen Drop-In-Class. <a href="https://www.freiraum-ins
 titut.at/preisgestaltung/">Siehe Preisgestaltung</a>!</p><p> </p><p>FREIRAU
 M-Institut, Liechtensteinstraße 10A Ecke Türkenstraße, im Raum 1</p><p>FREI
 RAUM-Institut, Liechtensteinstraße 10A Ecke Türkenstraße, im Raum 2</p><p> 
 </p><p> </p><p>Wir bieten nach der Geburt (postnatal), ebenso in Form von D
 rop-In-Classes ohne Anmeldung, effektives Rückbildungstraining an:</p><p><b
 >Mama-Baby-Yoga 1</b> für Babys die noch nicht krabbeln können,</p><p><b>Ma
 ma-Baby-Yoga 2</b> für Krabbel-Babys bis sie gehen können!</p><p>Weiterführ
 end bieten wir nach dem Mama-Baby-Yoga die <b>Mama-Kleinkind-Yoga-Kurse</b>
  mit Anmeldung für Kinder im Alter von 1-3 Jahren.</p><p> </p><p> </p>
CONTACT:https://www.freiraum-institut.at/stundenplan/familien-yoga
X-EXTRAINFO:[preis='1700'][anmeldung='false']
DTSTAMP:20260424T162759
DTSTART:20190531T140000
DTEND:20190531T145000
SEQUENCE:0
TRANSP:OPAQUE
END:VEVENT
END:VCALENDAR