BEGIN:VCALENDAR
VERSION:2.0
PRODID:-//jEvents 2.0 for Joomla//EN
CALSCALE:GREGORIAN
METHOD:PUBLISH
BEGIN:VEVENT
UID:d3dbe6707cac86e18e83f337e1bea55e
CATEGORIES:3. Bezirk
CREATED:20190126T222557
SUMMARY:Babymassage
LOCATION:kreativraum3\, Hörnesgasse 18
DESCRIPTION:
CONTACT:06643935509
X-EXTRAINFO:[preis='8400'][anmeldung='true']
DTSTAMP:20260424T143432
DTSTART:20190302T093000
DTEND:20190302T102000
SEQUENCE:0
TRANSP:OPAQUE
END:VEVENT
END:VCALENDAR