BEGIN:VCALENDAR
VERSION:2.0
PRODID:-//jEvents 2.0 for Joomla//EN
CALSCALE:GREGORIAN
METHOD:PUBLISH
BEGIN:VEVENT
UID:2bc530a92bdabb8631cf058152244844
CATEGORIES:23. Bezirk
CREATED:20190128T091550
SUMMARY:KangaBURN - HIIT mit oder ohne Kind
LOCATION:Pfarre Erlöserkirche\, Endresstraße 57A\, Pfarrsaal Erdgeschoß\, 1230 Wien
DESCRIPTION:KangaBURN - MACHT DICH FIT FÜR DEN ALLTAG MIT DEINER FAMILIE\nKinder dürfen
  gerne mitkommen!\nDeine letzte Geburt liegt ca. 1 Jahr oder länger zurück 
 und du möchtest fitter werden denn je?\nDann bist du hier richtig! Probier’
 s einfach aus! Du wirst es lieben!\n\n\n* mit HIIT high intensity interval 
 training nach aktuellstem Stand der Sportwissenschaft\n* für jeden Fitnessl
 evel geeignet\n* mit speziellem funktionellen Training für junge Eltern\n* 
 tankt Power für Deinen Alltag\n* ist Dein effektivstes Training\n* macht VI
 EL SPASS\n* bringt Myofaszialen Release gegen tiefliegende Verspannungen\n*
  auch Männer sind herzlich willkommen!\n \nLET´S KANGABURN 800 KCAL!\n\nAls
  immer schon sportbegeisterte Mama von 4 wunderbaren Kindern weiß ich, wie 
 positiv sich effektives Training auf dein Wohlbefinden auswirkt!\n\nUnverbi
 ndliches Schnuppertraining (um 15,- Euro; GRATIS mit Schnuppergutschein Dok
 umentenmappe Wien) ist jederzeit möglich - melde dich bitte hier an: \nKang
 atraining Brigitta 1130 &amp; 1230 Wien\n \nFür weitere Infos erreichst du 
 mich gerne:\n \nbrigitta@kangatraining.at (mailto:brigitta@kangatraining.at
 )\n \nBrigitta Friedl   0676 7091555\n \nfacebook: Kangatraining &amp; Trag
 eberatung Brigitta 1130 &amp; 1230 Wien\n\n (https://www.facebook.com/Kanga
 training.Brigitta/)\n \nIch freue mich darauf, dich kennenzulernen und geme
 insam mit dir trainieren zu können!\nDeine Brigitta\n\nps: hier mein aktuel
 ler Kursplan:\n\nMontag 10:00 Kangatraining Outdoor Maxingpark/Schönbrunn 1
 130 Wien \nMontag 18:30 PreKanga Soziales Zentrum 1230 Wien-Mauer \nMontag 
 19:45 KangaBurn Soziales Zentrum 1230 Wien-Mauer\n\nDienstag 9:30 Kangatrai
 ning Spotlight Dancecenter 1230 Wien-Erlaa \n\n\nMittwoch 10:00 Kangatraini
 ng St. Josef Krankenhaus 1130 Wien\nMittwoch 14:00 Kangatraining Soziales Z
 entrum 1230 Wien-Mauer\nMittwoch 16:00 Kangaburn (mit oder ohne Kind)\n\nDo
 nnerstag 9:00 KangaBurn (mit oder ohne Kind) Pfarre Erlöserkirche 1230 Wien
 -Mauer\nDonnerstag 10:15 Kangatraining Pfarre Erlöserkirche 1230 Wien-Mauer
 \n\nFreitag 9:30 NordicKanga Lainzer Tiergarten 1130 Wien\n
X-ALT-DESC;FMTTYPE=text/html:<p><strong>KangaBURN - MACHT DICH FIT FÜR DEN ALLTAG MIT DEINER FAMILIE<br 
 />Kinder dürfen gerne mitkommen!</strong></p><p>Deine letzte Geburt liegt c
 a. 1 Jahr oder länger zurück und du möchtest fitter werden denn je?</p><p>D
 ann bist du hier richtig! Probier’s einfach aus! Du wirst es lieben!<br /><
 br /></p><p>* mit <strong>HIIT</strong> high intensity interval training na
 ch <strong>aktuellstem Stand der Sportwissenschaft</strong></p><p>* für <st
 rong>jeden Fitnesslevel</strong> geeignet</p><p>* mit speziellem <strong>fu
 nktionellen Training für junge Eltern</strong></p><p>* tankt <strong>Power 
 für Deinen Alltag</strong></p><p>* ist Dein <strong>effektivstes Training</
 strong></p><p><strong>* macht VIEL SPASS</strong></p><p><strong>* bringt</s
 trong> <strong>Myofaszialen</strong> <strong>Release</strong> gegen tieflie
 gende Verspannungen</p><p>* auch <strong>Männer</strong> sind herzlich will
 kommen!</p><p><strong> </strong></p><p><strong>LET´S KANGABURN 800 KCAL!</s
 trong></p><p><strong><br />Als immer schon sportbegeisterte Mama von 4 wund
 erbaren Kindern weiß ich, wie positiv sich effektives Training auf dein Woh
 lbefinden auswirkt!</strong></p><p><strong><br />Unverbindliches Schnuppert
 raining (um 15,- Euro; GRATIS mit Schnuppergutschein Dokumentenmappe Wien) 
 ist jederzeit möglich - melde dich bitte hier an: <br /></strong><a title="
 Kangatraining Brigitta 1130 &amp; 1230 Wien" href="https://www.kangatrainin
 g.info/instructor/BrigittaFriedl/681" rel="alternate">Kangatraining Brigitt
 a 1130 &amp; 1230 Wien</a></p><p> </p><p><strong>Für weitere Infos erreichs
 t du mich gerne:</strong></p><p> </p><p><strong><a href="mailto:brigitta@ka
 ngatraining.at">brigitta@kangatraining.at</a></strong></p><p> </p><p><stron
 g>Brigitta Friedl   0676 7091555</strong></p><p> </p><p><strong>facebook: <
 a title="Kangatraining &amp; Trageberatung Brigitta 1130 &amp; 1230 Wien" h
 ref="https://www.facebook.com/Kangatraining.Brigitta/" rel="alternate">Kang
 atraining &amp; Trageberatung Brigitta 1130 &amp; 1230 Wien</a><a href="htt
 ps://www.facebook.com/Kangatraining.Brigitta/"><br /><br /></a></strong></p
 ><p> </p><p><strong>Ich freue mich darauf, dich kennenzulernen und gemeinsa
 m mit dir trainieren zu können!</strong></p><p><strong>Deine Brigitta<br />
 </strong></p><p>ps: hier mein aktueller<strong> Kursplan:</strong><br /><br
  /><strong><em>Montag</em></strong> 10:00 <strong>Kangatraining</strong> <s
 trong>Outdoor</strong> Maxingpark/Schönbrunn <strong>1130 Wien </strong><st
 rong><br /><em>Montag</em></strong> 18:30 <strong>PreKanga </strong>Soziale
 s Zentrum <strong>1230 Wien-Mauer <br /><em>Montag</em> </strong>19:45 <str
 ong>KangaBurn</strong> Soziales Zentrum <strong>1230 Wien-Mauer</strong><st
 rong><br /><br /><em>Dienstag</em></strong> 9:30<strong> Kangatraining </st
 rong>Spotlight Dancecenter<strong> 1230 Wien-Erlaa <br /><br /></strong></p
 ><p><strong><em>Mittwoch</em> </strong>10:00<strong> Kangatraining St. Jose
 f Krankenhaus</strong><strong> 1130 Wien<br /><em>Mittwoch</em> </strong>14
 :00 <strong>Kangatraining </strong>Soziales Zentrum <strong>1230 Wien-Mauer
 <br /></strong><em><strong>Mittwoch </strong></em>16:00<strong> Kangaburn (
 mit oder ohne Kind)<br /></strong><strong><br /><em>Donnerstag</em></strong
 > 9:00<strong> KangaBurn (mit oder ohne Kind)</strong> Pfarre Erlöserkirche
 <strong> 1230 Wien-Mauer<br /><em>Donnerstag</em></strong> 10:15<strong> Ka
 ngatraining </strong>Pfarre Erlöserkirche<strong> 1230 Wien-Mauer</strong><
 /p><p><strong><br /></strong><strong><em>Freitag</em> </strong>9:30<strong>
  NordicKanga</strong> Lainzer Tiergarten<strong> 1130 Wien</strong></p>
CONTACT:https://www.kangatraining.info/at_de/instructor/BrigittaFriedl/booking/681
X-EXTRAINFO:[preis='1500'][anmeldung='true']
DTSTAMP:20260425T150707
DTSTART:20191121T080000
DTEND:20191121T090000
SEQUENCE:0
TRANSP:OPAQUE
END:VEVENT
END:VCALENDAR