BEGIN:VCALENDAR
VERSION:2.0
PRODID:-//jEvents 2.0 for Joomla//EN
CALSCALE:GREGORIAN
METHOD:PUBLISH
BEGIN:VEVENT
UID:ac5083377e8b31f02ee36e8478bdb0e8
CATEGORIES:13. Bezirk
CREATED:20190128T095208
SUMMARY:NordicKANGA im Lainzer Tiergarten - mit Baby oder Babybauch
LOCATION:Lainzer TIergarten\, Parkplatz Lainzer Tor\, Ende Hermesstraße\, 1130 Wien
DESCRIPTION:NordicKanga ist genau auf Deine Bedürfnisse als junge Mama und die Deines B
 abys abgestimmt: Du wirst sicher &amp; effektiv rundum fit und Dein Baby ku
 schelt mit Dir und genießt es, Deine Nähe zu spüren.\nAber auch in der beso
 nderen Zeit deiner Schwangerschaft ist NordicKanga wunderbar!\nBeim NordicK
 anga im wunderschönen Lainzer Tiergarten genießen wir gemeinsam mit unseren
  Babys die Bewegung an der frischen Luft. Ausdauertraining im Intervall mit
  Kräftigungsübungen sorgen für ein vollständiges Workout.\nAls Trageberater
 in ist es mir besonders wichtig, dass alle "Kangababys" beim Kangatraining®
  gesund getragen werden:\n\n - gut gestützt\n - in "Anhock-Spreiz-Haltung"\
 n - leicht gerundeten Rücken des Babys\n - vor optischer Reizüberflutung ge
 schützt\n - komfortabel für den TrägerWann kannst du starten?\n\nNordicKang
 a ist von der ersten bis zur letzten Woche deiner Schwangerschaft wunderbar
  - vorausgesetzt es besteht kein Sportverbot!\nSobald du den postnatalen gy
 näkologischen Check-Up nach der Entbindung erfolgreich bestanden hast (6-8 
 nach vaginaler bzw. 10-12 Wochen nach Kaiserschnitt-Geburt), bist du beim K
 angatraining® herzlich willkommen!\nUnverbindliches Schnuppertraining ist j
 ederzeit möglich (gratis mit Wickelrucksackgutschein) - melde dich hier an:
  http://www.kangatraining.at/index.php?name=trainerinfo&amp;sub=booking&amp
 ;idtrainer=681\n\nBreitgefächertes Gratis-Leihtragehilfensortiment vorhande
 n!\nGRATIS-Leihstöcke können reserviert werden!\n \nps: hier mein aktueller
  Kursplan:\n\nMontag 10:00 Kangatraining Outdoor Maxingpark/Schönbrunn 1130
  Wien \nMontag 18:30 PreKanga Soziales Zentrum 1230 Wien-Mauer \nMontag 19:
 45 KangaBurn Soziales Zentrum 1230 Wien-Mauer\n\nDienstag 9:30 Kangatrainin
 g Spotlight Dancecenter 1230 Wien-Erlaa \n\n\nMittwoch 10:00 Kangatraining 
 St. Josef Krankenhaus 1130 Wien\nMittwoch 14:00 Kangatraining Soziales Zent
 rum 1230 Wien-Mauer\nMittwoch 16:00 KangaBurn (mit oder ohne Kind)\n\nDonne
 rstag 9:00 KangaBurn (mit oder ohne Kind) Pfarre Erlöserkirche 1230 Wien-Ma
 uer\nDonnerstag 10:15 Kangatraining Pfarre Erlöserkirche 1230 Wien-Mauer\n\
 nFreitag 9:30 NordicKanga Lainzer Tiergarten 1130 Wien\n \nFür weitere Info
 s/Anmeldung erreichst du mich gerne:\nbrigitta@kangatraining.at (mailto:bri
 gitta@kangatraining.at)\nBrigitta Friedl   0676 7091555\nAnmeldung Kanga Br
 igitta 1130 &amp; 1230 Wien\nFacebook Kangatraining &amp; Trageberatung Bri
 gitta (https://www.facebook.com/Kangatraining.Brigitta/)\nIch freue mich da
 rauf, dein Baby und dich kennenzulernen und gemeinsam mit euch in herrliche
 r Naturkulisse trainieren zu dürfen!\nDeine Brigitta\n
X-ALT-DESC;FMTTYPE=text/html:<p><strong>NordicKanga</strong> ist genau auf Deine Bedürfnisse als junge M
 ama und die Deines Babys abgestimmt: Du wirst sicher &amp; effektiv rundum 
 fit und Dein Baby kuschelt mit Dir und genießt es, Deine Nähe zu spüren.<br
  />Aber auch in der besonderen Zeit deiner <strong>Schwangerschaft</strong>
  ist<strong> NordicKanga </strong>wunderbar!</p><p>Beim <strong>NordicKanga
 </strong> im wunderschönen Lainzer Tiergarten genießen wir gemeinsam mit un
 seren Babys die Bewegung an der frischen Luft. Ausdauertraining im Interval
 l mit Kräftigungsübungen sorgen für ein vollständiges Workout.</p><p>Als <s
 trong>Trageberaterin</strong> ist es mir besonders wichtig, dass alle "Kang
 ababys" beim Kangatraining<sup>®</sup> gesund getragen werden:</p><ul><li>g
 ut gestützt</li><li>in "Anhock-Spreiz-Haltung"</li><li>leicht gerundeten Rü
 cken des Babys</li><li>vor optischer Reizüberflutung geschützt</li><li>komf
 ortabel für den Träger</li></ul><p><strong>Wann kannst du starten?</strong>
 <br /><br />NordicKanga ist von der ersten bis zur letzten Woche deiner <st
 rong>Schwangerschaft</strong> wunderbar - vorausgesetzt es besteht kein Spo
 rtverbot!<br />Sobald du den <strong>postnatalen gynäkologischen Check-Up</
 strong> nach der Entbindung erfolgreich bestanden hast (6-8 nach vaginaler 
 bzw. 10-12 Wochen nach Kaiserschnitt-Geburt), bist du beim Kangatraining<su
 p>® </sup>herzlich willkommen!</p><p><strong>Unverbindliches Schnuppertrain
 ing ist jederzeit möglich (gratis mit Wickelrucksackgutschein)</strong> - m
 elde dich hier an: <a title="Anmeldung Schnuppertraining" href="https://www
 .kangatraining.info/instructor/BrigittaFriedl/681" target="_blank" rel="noo
 pener noreferrer">http://www.kangatraining.at/index.php?name=trainerinfo&am
 p;sub=booking&amp;idtrainer=681</a><br /><br />Breitgefächertes <strong>Gra
 tis-Leihtragehilfensortiment vorhanden</strong>!<br /><strong>GRATIS-Leihst
 öcke</strong> können reserviert werden!</p><p> </p><p>ps: hier mein aktuell
 er<strong> Kursplan:</strong><br /><br /><strong><em>Montag</em></strong> 1
 0:00 <strong>Kangatraining</strong> <strong>Outdoor</strong> Maxingpark/Sch
 önbrunn <strong>1130 Wien </strong><strong><br /><em>Montag</em></strong> 1
 8:30 <strong>PreKanga </strong>Soziales Zentrum <strong>1230 Wien-Mauer <br
  /><em>Montag</em> </strong>19:45 <strong>KangaBurn</strong> Soziales Zentr
 um <strong>1230 Wien-Mauer</strong><strong><br /><br /><em>Dienstag</em></s
 trong> 9:30<strong> Kangatraining </strong>Spotlight Dancecenter<strong> 12
 30 Wien-Erlaa <br /><br /></strong></p><p><strong><em>Mittwoch</em> </stron
 g>10:00<strong> Kangatraining St. Josef Krankenhaus</strong><strong> 1130 W
 ien<br /><em>Mittwoch</em> </strong>14:00 <strong>Kangatraining </strong>So
 ziales Zentrum <strong>1230 Wien-Mauer<br /></strong><em><strong>Mittwoch <
 /strong></em>16:00<strong> KangaBurn (mit oder ohne Kind)<br /></strong><st
 rong><br /><em>Donnerstag</em></strong> 9:00<strong> KangaBurn (mit oder oh
 ne Kind)</strong> Pfarre Erlöserkirche<strong> 1230 Wien-Mauer<br /><em>Don
 nerstag</em></strong> 10:15<strong> Kangatraining </strong>Pfarre Erlöserki
 rche<strong> 1230 Wien-Mauer</strong></p><p><strong><br /></strong><strong>
 <em>Freitag</em> </strong>9:30<strong> NordicKanga</strong> Lainzer Tiergar
 ten<strong> 1130 Wien</strong></p><p><strong> </strong></p><p><strong>Für w
 eitere Infos/Anmeldung erreichst du mich gerne:</strong></p><p><strong><a h
 ref="mailto:brigitta@kangatraining.at">brigitta@kangatraining.at</a></stron
 g></p><p><strong>Brigitta Friedl   0676 7091555</strong></p><p><strong><a h
 ref="https://www.kangatraining.info/instructor/BrigittaFriedl/681">Anmeldun
 g Kanga Brigitta 1130 &amp; 1230 Wien</a></strong></p><p><strong><a href="h
 ttps://www.facebook.com/Kangatraining.Brigitta/">Facebook Kangatraining &am
 p; Trageberatung Brigitta</a></strong></p><p><strong>Ich freue mich darauf,
  dein Baby und dich kennenzulernen und gemeinsam mit euch in herrlicher Nat
 urkulisse trainieren zu dürfen!</strong><br /><strong>Deine Brigitta</stron
 g></p>
CONTACT:https://www.kangatraining.info/instructor/BrigittaFriedl/681
X-EXTRAINFO:[preis='1500'][anmeldung='true']
DTSTAMP:20260423T165401
DTSTART:20190802T073000
DTEND:20190802T090000
SEQUENCE:0
TRANSP:OPAQUE
END:VEVENT
END:VCALENDAR