BEGIN:VCALENDAR
VERSION:2.0
PRODID:-//jEvents 2.0 for Joomla//EN
CALSCALE:GREGORIAN
METHOD:PUBLISH
BEGIN:VEVENT
UID:fcdf84184b7fd588b20cf389c7da5f4d
CATEGORIES:6. Bezirk
CREATED:20190130T113015
SUMMARY:Babyzeichensprache I
LOCATION:LYMA\, Loquaiplatz 12/1\, 1060 Wien
DESCRIPTION:LERNE DEIN BABY VERSTEHEN! Kommunikation ist ein menschliches Grundbedürfni
 s, das bereits im frühkindlichen Alter einsetzt. Die verbale Kommunikation 
 eines Babies beginnt erst im Alter von 12 Monaten, davor dient die Zwergens
 prache als nonverbale Kommunikationsform. Um die Verständigung zwischen Elt
 ern und ihren Babies zu erleichtern, ist die Babyzeichensprache eine wirksa
 me Methode. In unserem Kurs Zwergensprache in 1060 Wien lernen Eltern einfa
 che Handzeichen, beruhend auf der deutschen Gebärdensprache, die sozusagen 
 als Fenster zur Welt ihres Babies dienen sollen. So lernt dein Kind paralle
 l zur Entwicklung der Lautsprache die Bedeutung einzelner Handzeichen und g
 ewinnt dadurch Orientierung, Sicherheit sowie Freude an der Kommunikation. 
 Ein typisches Beispiel für ein Babyzeichen ist das Winken, das kleinen Kind
 ern zur Verabschiedung beigebracht wird. Etwa 100 genau so einfache Handzei
 chen werden im Babyzeichensprache Kurs vermittelt. Ebenso bietet der Kurs v
 ielfältige Anregungen für die kindgerechte Umsetzung der Zwergensprache im 
 Familienalltag.\n\nWeitere Infos: https://www.lyma.at/kinder/baby-kurse/bab
 yzeichensprache-1/\n(c) Avatar_023/Shutterstock.com\n
X-ALT-DESC;FMTTYPE=text/html:<h2 class="subtitle">LERNE DEIN BABY VERSTEHEN! </h2><p>Kommunikation ist e
 in menschliches Grundbedürfnis, das bereits im frühkindlichen Alter einsetz
 t. Die verbale Kommunikation eines Babies beginnt erst im Alter von 12 Mona
 ten, davor dient die Zwergensprache als nonverbale Kommunikationsform. Um d
 ie Verständigung zwischen Eltern und ihren Babies zu erleichtern, ist die B
 abyzeichensprache eine wirksame Methode. In unserem Kurs Zwergensprache in 
 1060 Wien lernen Eltern einfache Handzeichen, beruhend auf der deutschen Ge
 bärdensprache, die sozusagen als Fenster zur Welt ihres Babies dienen solle
 n. So lernt dein Kind parallel zur Entwicklung der Lautsprache die Bedeutun
 g einzelner Handzeichen und gewinnt dadurch Orientierung, Sicherheit sowie 
 Freude an der Kommunikation. Ein typisches Beispiel für ein Babyzeichen ist
  das Winken, das kleinen Kindern zur Verabschiedung beigebracht wird. Etwa 
 100 genau so einfache Handzeichen werden im Babyzeichensprache Kurs vermitt
 elt. Ebenso bietet der Kurs vielfältige Anregungen für die kindgerechte Ums
 etzung der Zwergensprache im Familienalltag.<br /><br />Weitere Infos: <a h
 ref="https://www.lyma.at/kinder/baby-kurse/babyzeichensprache-1/">https://w
 ww.lyma.at/kinder/baby-kurse/babyzeichensprache-1/</a></p><p>(c) Avatar_023
 /Shutterstock.com</p>
CONTACT:office@lyma.at, 01/9093359, www.lyma.at
X-EXTRAINFO:[preis='15000'][anmeldung='true']
DTSTAMP:20260423T194657
DTSTART:20190319T083000
DTEND:20190319T093000
SEQUENCE:0
TRANSP:OPAQUE
END:VEVENT
END:VCALENDAR