BEGIN:VCALENDAR
VERSION:2.0
PRODID:-//jEvents 2.0 for Joomla//EN
CALSCALE:GREGORIAN
METHOD:PUBLISH
BEGIN:VEVENT
UID:cad805a5ce1b968c8be9d06758bfeab1
CATEGORIES:6. Bezirk
CREATED:20190130T114405
SUMMARY:Rückbildungsgymnastik 
LOCATION:LYMA\, Loquaiplatz 12/1\, 1060 Wien
DESCRIPTION:<h1 class="subtitle">RÜCKBILDUNG - DIE KRAFT DER MITTE</h1><p>Die Zeit der 
 Schwangerschaft und der Geburt und eine ganz besondere Phase im Leben einer
  Frau. Der Körper durchläuft in dieser Zeit eine Vielzahl an Veränderungen.
  Sportliche Aktivitäten wurden vielleicht zurückgestellt oder es war einfac
 h keine Zeit mehr dafür. Nach der Geburt liegt der Fokus sehr beim neuen Fa
 milienmitglied. Dieser Kurs richtet sich an alle Frauen, die sich Zeit nehm
 en wollen, ihrem Körper wieder etwas Gutes zu tun.<br /><br />Der Schwerpun
 kt dieses Kurses liegt in der Rückgewinnung der Kraft in Bereichen des Körp
 ers, wo die Schwangerschaft sichtbar geworden ist und „Eindruck“ hinterlass
 en hat. Der Rumpf, der Bauch, der Rücken, die Beine werden gestärkt. Der Be
 ckenboden wird erspürt, erlebt und gestärkt. Denn die Lebensqualität einer 
 Frau hängt unmittelbar mit dem Zustand ihres Beckenbodens zusammen. So werd
 en alle Elemente des Körpers gespürt und gestärkt.<br /><br />Bei alledem d
 arf dein Baby natürlich nicht fehlen. Unsere Hebamme und Begleiterin Julia 
 Eva Friedreich konzipiert die Übungen so, dass dein Kind eingebunden wird, 
 wodurch der Kurs zu einem neuen Bindungselement in eurer Beziehung wird. Am
  Ende der Einheit werden die Kinder mit einer liebevollen Babymassage verwö
 hnt. </p><p>Weitere Infos: <a href="https://www.lyma.at/kinder/baby-kurse/r
 ueckbildungsgymnastik-babymassage/">https://www.lyma.at/kinder/baby-kurse/r
 ueckbildungsgymnastik-babymassage/</a></p><p> </p><p> </p><p> </p><p><br />
 <br />(c) OksanaKuzmina/Shutterstock.com</p>
CONTACT:office@lyma.at, 01/9093359, www.lyma.at
X-EXTRAINFO:[preis='14400'][anmeldung='true']
DTSTAMP:20260423T195145
DTSTART:20190315T100000
DTEND:20190315T113000
SEQUENCE:0
TRANSP:OPAQUE
END:VEVENT
END:VCALENDAR