BEGIN:VCALENDAR
VERSION:2.0
PRODID:-//jEvents 2.0 for Joomla//EN
CALSCALE:GREGORIAN
METHOD:PUBLISH
BEGIN:VEVENT
UID:e2516b93881ea054a84cac76776429f0
CATEGORIES:6. Bezirk
CREATED:20190130T115843
SUMMARY:Schwangerschaftsgymnastik
LOCATION:LYMA\, Loquaiplatz 12\, 1060 Wien
DESCRIPTION:FIT IN DER SCHWANGERSCHAFTDu warst vor der Schwangerschaft immer sportlich 
 und weißt nicht, was du jetzt die nächsten Monate machen sollst? Du bist ei
 gentlich immer schon ein Sportmuffel gewesen, möchtest aber jetzt in der Sc
 hwangerschaft etwas für deinen Körper tun?\n\nUnsere Schwangerschaftsgymnas
 tik Kurse in Wien sind für beide Frauentypen geeignet und bereitet ideal au
 f die Geburt vor. \nUnsere Trainerin  Julia Eva Friedreich verfügt über jah
 relange Erfahrung als Hebammen und gestaltet jede Übung mit unterschiedlich
 en Schwierigkeitsstufen. Das pränatale Training zielt auf die Kräftigung de
 r Körperpartien ab, die für die Geburt und die Zeit danach stark sein müsse
 n, und die Entspannung der Partien, die durch die Schwangerschaft belastet 
 werden. Aufgelockert durch kurze Yoga-, Gymnastik- und Atemübungen stärkt u
 nser Fitnesstraining für Schwangere nicht nur den ganzen Körper, sondern ma
 cht auch Spaß.\n\n\n\n\n(c) Syda Productions Shutterstock.com\n
X-ALT-DESC;FMTTYPE=text/html:<h1 class="subtitle">FIT IN DER SCHWANGERSCHAFT</h1><p>Du warst vor der Sch
 wangerschaft immer sportlich und weißt nicht, was du jetzt die nächsten Mon
 ate machen sollst? Du bist eigentlich immer schon ein Sportmuffel gewesen, 
 möchtest aber jetzt in der Schwangerschaft etwas für deinen Körper tun?<br 
 /><br />Unsere Schwangerschaftsgymnastik Kurse in Wien sind für beide Fraue
 ntypen geeignet und bereitet ideal auf die Geburt vor. </p><p>Unsere Traine
 rin  Julia Eva Friedreich verfügt über jahrelange Erfahrung als Hebammen un
 d gestaltet jede Übung mit unterschiedlichen Schwierigkeitsstufen. Das prän
 atale Training zielt auf die Kräftigung der Körperpartien ab, die für die G
 eburt und die Zeit danach stark sein müssen, und die Entspannung der Partie
 n, die durch die Schwangerschaft belastet werden. Aufgelockert durch kurze 
 Yoga-, Gymnastik- und Atemübungen stärkt unser Fitnesstraining für Schwange
 re nicht nur den ganzen Körper, sondern macht auch Spaß.<br /><br /></p><p>
 <br /><br />(c) Syda Productions Shutterstock.com</p>
CONTACT:office@lyma.at, 01/9093359, www.lyma.at
X-EXTRAINFO:[preis='14400'][anmeldung='true']
DTSTAMP:20260423T194546
DTSTART:20190314T173000
DTEND:20190314T190000
SEQUENCE:0
TRANSP:OPAQUE
END:VEVENT
END:VCALENDAR