BEGIN:VCALENDAR
VERSION:2.0
PRODID:-//jEvents 2.0 for Joomla//EN
CALSCALE:GREGORIAN
METHOD:PUBLISH
BEGIN:VEVENT
UID:915f689b5ee31445ef696cad2289e176
CATEGORIES:6. Bezirk
CREATED:19700101T010000
SUMMARY:Fit mit Baby
LOCATION:LYMA\, Loquaiplatz 12/1\, 1060 Wien
DESCRIPTION:<h1 class="subtitle">FUNKTIONELLES WORKOUT FÜR ELTERN MIT BABY</h1><p>Du wa
 rst schon immer bewegungshungrig, musstest in der Schwangerschaft aber ein 
 wenig leiser treten und möchtest jetzt wieder voller Elan etwas für Körper 
 und Geist tun? Du bist frisch gebackener Vater und suchst nach einer Möglic
 hkeit, spielerisch mit deinem Sprössling in Bewegung und Verbindung zu sein
 ? In unserem Kurs Fit mit Baby erwartet dich eine Kombination aus Yoga Übun
 gen und Workout, in das dein Baby eingebunden wird. Je nach Tagesverfassung
  und Lust können die Kleinen mitmachen, anleiten, inspirieren, schlafen, sp
 ielen und manchmal auch stören - dabeisein ist alles!</p><p>Das Training fi
 ndet in einer entspannten und lockeren Athmosphäre statt und hat keinen Dri
 ll-Charakter,  vielmehr geht es darum, etwas für sich zu tun und gleichzeit
 ig den Kontakt zu seinen Baby zu genießen. Der Kurs vereint Yoga Asanas und
  Krafttraining für Mama und/oder Papa und spielerische Übungen für das Baby
 , die die Entwicklung des Kindes fördern. Darüber hinaus werden auch Kontak
 te zu anderen Elternteilen geknüpft und es findet ein reger Austausch statt
 .<br />Neben klassischen Kräftigungsübungen, bei denen mit dem Gewicht des 
 Kindes gearbeitet wird, werden auch Übungen für den Rücken oder Beckenboden
  durchgeführt. Das Training wir jedenfalls auf die Teilnehmenden und ihre S
 portivität angepasst.<br /><br /></p><p>Weitere Infos: <a href="https://www
 .lyma.at/kinder/baby-kurse/fit-mit-baby/">https://www.lyma.at/kinder/baby-k
 urse/fit-mit-baby/<br /><br /></a></p><p><br /><br />(c)  LightField Studio
 s/Shutterstock.com </p>
CONTACT:office@lyma.at, 01/9093359, www.lyma.at
X-EXTRAINFO:[preis='16800'][anmeldung='true']
DTSTAMP:20260423T182551
DTSTART:20190214T090000
DTEND:20190214T100000
SEQUENCE:0
TRANSP:OPAQUE
END:VEVENT
END:VCALENDAR