BEGIN:VCALENDAR
VERSION:2.0
PRODID:-//jEvents 2.0 for Joomla//EN
CALSCALE:GREGORIAN
METHOD:PUBLISH
BEGIN:VEVENT
UID:915f689b5ee31445ef696cad2289e176
CATEGORIES:6. Bezirk
CREATED:20190130T120214
SUMMARY:Fit mit Baby
LOCATION:LYMA\, Loquaiplatz 12/1\, 1060 Wien
DESCRIPTION:FUNKTIONELLES WORKOUT FÜR ELTERN MIT BABYDu warst schon immer bewegungshung
 rig, musstest in der Schwangerschaft aber ein wenig leiser treten und möcht
 est jetzt wieder voller Elan etwas für Körper und Geist tun? Du bist frisch
  gebackener Vater und suchst nach einer Möglichkeit, spielerisch mit deinem
  Sprössling in Bewegung und Verbindung zu sein? In unserem Kurs Fit mit Bab
 y erwartet dich eine Kombination aus Yoga Übungen und Workout, in das dein 
 Baby eingebunden wird. Je nach Tagesverfassung und Lust können die Kleinen 
 mitmachen, anleiten, inspirieren, schlafen, spielen und manchmal auch störe
 n - dabeisein ist alles!\nDas Training findet in einer entspannten und lock
 eren Athmosphäre statt und hat keinen Drill-Charakter,  vielmehr geht es da
 rum, etwas für sich zu tun und gleichzeitig den Kontakt zu seinen Baby zu g
 enießen. Der Kurs vereint Yoga Asanas und Krafttraining für Mama und/oder P
 apa und spielerische Übungen für das Baby, die die Entwicklung des Kindes f
 ördern. Darüber hinaus werden auch Kontakte zu anderen Elternteilen geknüpf
 t und es findet ein reger Austausch statt.\nNeben klassischen Kräftigungsüb
 ungen, bei denen mit dem Gewicht des Kindes gearbeitet wird, werden auch Üb
 ungen für den Rücken oder Beckenboden durchgeführt. Das Training wir jedenf
 alls auf die Teilnehmenden und ihre Sportivität angepasst.\n\n\nWeitere Inf
 os: https://www.lyma.at/kinder/baby-kurse/fit-mit-baby/\n\n (https://www.ly
 ma.at/kinder/baby-kurse/fit-mit-baby/)\n\n\n(c)  LightField Studios/Shutter
 stock.com \n
X-ALT-DESC;FMTTYPE=text/html:<h1 class="subtitle">FUNKTIONELLES WORKOUT FÜR ELTERN MIT BABY</h1><p>Du wa
 rst schon immer bewegungshungrig, musstest in der Schwangerschaft aber ein 
 wenig leiser treten und möchtest jetzt wieder voller Elan etwas für Körper 
 und Geist tun? Du bist frisch gebackener Vater und suchst nach einer Möglic
 hkeit, spielerisch mit deinem Sprössling in Bewegung und Verbindung zu sein
 ? In unserem Kurs Fit mit Baby erwartet dich eine Kombination aus Yoga Übun
 gen und Workout, in das dein Baby eingebunden wird. Je nach Tagesverfassung
  und Lust können die Kleinen mitmachen, anleiten, inspirieren, schlafen, sp
 ielen und manchmal auch stören - dabeisein ist alles!</p><p>Das Training fi
 ndet in einer entspannten und lockeren Athmosphäre statt und hat keinen Dri
 ll-Charakter,  vielmehr geht es darum, etwas für sich zu tun und gleichzeit
 ig den Kontakt zu seinen Baby zu genießen. Der Kurs vereint Yoga Asanas und
  Krafttraining für Mama und/oder Papa und spielerische Übungen für das Baby
 , die die Entwicklung des Kindes fördern. Darüber hinaus werden auch Kontak
 te zu anderen Elternteilen geknüpft und es findet ein reger Austausch statt
 .<br />Neben klassischen Kräftigungsübungen, bei denen mit dem Gewicht des 
 Kindes gearbeitet wird, werden auch Übungen für den Rücken oder Beckenboden
  durchgeführt. Das Training wir jedenfalls auf die Teilnehmenden und ihre S
 portivität angepasst.<br /><br /></p><p>Weitere Infos: <a href="https://www
 .lyma.at/kinder/baby-kurse/fit-mit-baby/">https://www.lyma.at/kinder/baby-k
 urse/fit-mit-baby/<br /><br /></a></p><p><br /><br />(c)  LightField Studio
 s/Shutterstock.com </p>
CONTACT:office@lyma.at, 01/9093359, www.lyma.at
X-EXTRAINFO:[preis='16800'][anmeldung='true']
DTSTAMP:20260423T165435
DTSTART:20190228T090000
DTEND:20190228T100000
SEQUENCE:0
TRANSP:OPAQUE
END:VEVENT
END:VCALENDAR