BEGIN:VCALENDAR
VERSION:2.0
PRODID:-//jEvents 2.0 for Joomla//EN
CALSCALE:GREGORIAN
METHOD:PUBLISH
BEGIN:VEVENT
UID:d99a0d5bee481b1bf2c33def4c1e7bc4
CATEGORIES:14. Bezirk
CREATED:20190201T160024
SUMMARY:Yogalates für Eltern mit dem Baby
LOCATION:VHS Penzing\, Hütteldorfer Straße 112\, 1140 Wien
DESCRIPTION:<p>Yogalates vereint Prinzipien aus dem fernöstlichen Yoga und dem europäis
 chen Pilates, Übungen aus beiden Konzepten werden zu einem wirkungsvollen T
 raining verbunden. Mit Yoga  arbeiten wir an der Atmung und Geschmeidigkeit
 , Pilates gibt Kraft und strafft den Körper.  Ziel sind ein kraftvoller und
  beweglicher Körper, eine gute Haltung, Balance und Gelassenheit. Dieser Ku
 rs an 12 Donnerstagen von 11:00 Uhr bis 12:00 Uhr statt.</p>
CONTACT:penzing@vhs.at
X-EXTRAINFO:[preis='7800'][anmeldung='true']
DTSTAMP:20260423T144449
DTSTART:20190328T100000
DTEND:20190328T110000
SEQUENCE:0
TRANSP:OPAQUE
END:VEVENT
END:VCALENDAR