BEGIN:VCALENDAR
VERSION:2.0
PRODID:-//jEvents 2.0 for Joomla//EN
CALSCALE:GREGORIAN
METHOD:PUBLISH
BEGIN:VEVENT
UID:4423b15417e03fc1f173181940134df3
CATEGORIES:14. Bezirk
CREATED:20190201T161030
SUMMARY:Mother & Baby Workout (12-18 Monate)
LOCATION:VHS Penzing\, Hütteldorfer Straße 112\, 1140 Wien
DESCRIPTION:<p>Ein Schwangerschafts-Rückbildungskurs der besonderen Art. Die "alte" Fig
 ur zurück, aber bitte mit Vorsicht! Nur durch richtig gewählte Übungen könn
 en Sie den Beckenboden wieder kräftigen und den gesamten Körper wieder in F
 orm bringen. Ein Workout, das garantiert Abwechslung und Spannung versprich
 t. Babys können zur Stunde mitgebracht werden. Dieser Kurs findet an 15 Don
 nerstagen von 13:30 Uhr bis 14:30 Uhr statt.</p>
CONTACT:penzing@vhs.at
X-EXTRAINFO:[preis='9750'][anmeldung='true']
DTSTAMP:20260423T165814
DTSTART:20190307T123000
DTEND:20190307T133000
SEQUENCE:0
TRANSP:OPAQUE
END:VEVENT
END:VCALENDAR