BEGIN:VCALENDAR
VERSION:2.0
PRODID:-//jEvents 2.0 for Joomla//EN
CALSCALE:GREGORIAN
METHOD:PUBLISH
BEGIN:VEVENT
UID:1053989c3e16fa12d7ea9e52197331de
CATEGORIES:14. Bezirk
CREATED:20190201T162452
SUMMARY:Babyturnen (6-12 Monate)
LOCATION:VHS Penzing\, Hütteldorfer Straße 112\, 1140 Wien
DESCRIPTION:Gesunde Kinder bewegen sich gern. Ziel des Babyturnens ist es, die Babys mi
 t einfachen, spielerischen Übungen in ihrer Bewegungsentwicklung zu fördern
 . Gleichzeitig werden die Sinne geschärft und die Körperwahrnehmung positiv
  beeinflusst. Vor allem aber sollen Kinder und Eltern Spaß an der gemeinsam
 en Bewegung haben. Dieser Kurs findet 15x immer mittwochs von 09 Uhr bis 10
 :00 Uhr statt.\n
X-ALT-DESC;FMTTYPE=text/html:<p>Gesunde Kinder bewegen sich gern. Ziel des Babyturnens ist es, die Babys
  mit einfachen, spielerischen Übungen in ihrer Bewegungsentwicklung zu förd
 ern. Gleichzeitig werden die Sinne geschärft und die Körperwahrnehmung posi
 tiv beeinflusst. Vor allem aber sollen Kinder und Eltern Spaß an der gemein
 samen Bewegung haben. Dieser Kurs findet 15x immer mittwochs von 09 Uhr bis
  10:00 Uhr statt.</p>
CONTACT:penzing@vhs.at
X-EXTRAINFO:[preis='8700'][anmeldung='true']
DTSTAMP:20260423T173028
DTSTART:20190410T070000
DTEND:20190410T080000
SEQUENCE:0
TRANSP:OPAQUE
END:VEVENT
END:VCALENDAR