BEGIN:VCALENDAR
VERSION:2.0
PRODID:-//jEvents 2.0 for Joomla//EN
CALSCALE:GREGORIAN
METHOD:PUBLISH
BEGIN:VEVENT
UID:310686ff31e2d8ee6b97f28ae43ada98
CATEGORIES:14. Bezirk
CREATED:20190201T162825
SUMMARY:Eltern-Kind-Turnen (10-18 Monate)
LOCATION:VHS Penzing\, Hütteldorfer Straße 112\, 1140 Wien
DESCRIPTION:<p>Dieses abwechslungsreiche Spiel- und Bewegungsprogramm bietet Kindern di
 e Möglichkeit, gemeinsam mit ihren Eltern neue Bewegungserfahrungen zu mach
 en. Sie lernen so mehr Sicherheit und Vertrauen in die eigenen Fähigkeiten.
  Oft findet in diesem Rahmen der erste, behutsam begleitete Kontakt mit and
 eren Kindern statt. Altersgerechte Spiele, Tänze und jede Menge Gelegenheit
  zum Turnen und Toben fördern Beweglichkeit, Geschicklichkeit und Rhythmusg
 efühl. Ziel: Die Kinder verfügen über mehr Bewegungssicherheit und -freihei
 t im Alltag. Dieser Kurs findet 15x immer donnerstags von 9:00 bis 10:00 Uh
 r statt.</p>
CONTACT:penzing@vhs.at
X-EXTRAINFO:[preis='8700'][anmeldung='true']
DTSTAMP:20260423T153735
DTSTART:20190228T080000
DTEND:20190228T090000
SEQUENCE:0
TRANSP:OPAQUE
END:VEVENT
END:VCALENDAR