BEGIN:VCALENDAR
VERSION:2.0
PRODID:-//jEvents 2.0 for Joomla//EN
CALSCALE:GREGORIAN
METHOD:PUBLISH
BEGIN:VEVENT
UID:a7a3bfb7ba8497161ff659bcf7439746
CATEGORIES:14. Bezirk
CREATED:20190201T163553
SUMMARY:Aquafitness mit dem Baby (3-12 Monate)
LOCATION:Holmes Place\, Hütteldorfer Straße 130A\, 1140 Wien
DESCRIPTION:Diese besonders schonende Bewegungsform wird im brusthohen Wasser ausgeführ
 t und ermöglicht ein sanftes Training des ganzen Körpers. Gemeinsam schwebe
 n Mama und Baby durchs Wasser, dessen hydrostatischer Druck den positiven T
 rainingseffekt verstärkt. Die Massagewirkung regt die Durchblutung von Musk
 eln, Haut und Bindegewebe an, alle Sinne werden angeregt und die Mama-Baby-
 Bindung wird gestärkt. Am Ende der Stunde sind Sie und Ihr Baby angenehm en
 tspannt. Dieser Kurs findet 7x immer freitags von 13:00 bis 14:00 Uhr im Ho
 lmes Place im 14. Bezirk statt.\nWassertemperatur 28 Grad\n
X-ALT-DESC;FMTTYPE=text/html:<p>Diese besonders schonende Bewegungsform wird im brusthohen Wasser ausgef
 ührt und ermöglicht ein sanftes Training des ganzen Körpers. Gemeinsam schw
 eben Mama und Baby durchs Wasser, dessen hydrostatischer Druck den positive
 n Trainingseffekt verstärkt. Die Massagewirkung regt die Durchblutung von M
 uskeln, Haut und Bindegewebe an, alle Sinne werden angeregt und die Mama-Ba
 by-Bindung wird gestärkt. Am Ende der Stunde sind Sie und Ihr Baby angenehm
  entspannt. Dieser Kurs findet 7x immer freitags von 13:00 bis 14:00 Uhr im
  Holmes Place im 14. Bezirk statt.<br /><strong>Wassertemperatur 28 Grad</s
 trong></p>
CONTACT:penzing@vhs.at
X-EXTRAINFO:[preis='4550'][anmeldung='true']
DTSTAMP:20260423T182237
DTSTART:20190517T110000
DTEND:20190517T120000
SEQUENCE:0
TRANSP:OPAQUE
END:VEVENT
END:VCALENDAR