BEGIN:VCALENDAR
VERSION:2.0
PRODID:-//jEvents 2.0 for Joomla//EN
CALSCALE:GREGORIAN
METHOD:PUBLISH
BEGIN:VEVENT
UID:0a02e08dc4d456c2f043eb8daf8aac9d
CATEGORIES:14. Bezirk
CREATED:20190201T163921
SUMMARY:Aquafitness für Schwangere
LOCATION:Holmes Place\, Hütteldorfer Straße 130A\, 1140 Wien
DESCRIPTION:Diese besonders schonende Bewegungsform für Schwangere wird im brusthohen W
 asser ausgeführt und hält Beweglichkeit sowie Leistungsfähigkeit aufrecht. 
 Der hydrostatische Druck des Wassers verstärkt den positiven Trainingseffek
 t und wirkt sich günstig auf die Blutgefäße aus. Die Massagewirkung regt di
 e Durchblutung von Muskeln, Haut und Bindegewebe an und strafft das Gewebe.
  Dieser Kurs findet 7x immer freitags von 12:00 bis 13:00 Uhr im Holmes Pla
 ce im 14. Bezirk statt.\nWassertemperatur 28 Grad\n
X-ALT-DESC;FMTTYPE=text/html:<p>Diese besonders schonende Bewegungsform für Schwangere wird im brusthohe
 n Wasser ausgeführt und hält Beweglichkeit sowie Leistungsfähigkeit aufrech
 t. Der hydrostatische Druck des Wassers verstärkt den positiven Trainingsef
 fekt und wirkt sich günstig auf die Blutgefäße aus. Die Massagewirkung regt
  die Durchblutung von Muskeln, Haut und Bindegewebe an und strafft das Gewe
 be. Dieser Kurs findet 7x immer freitags von 12:00 bis 13:00 Uhr im Holmes 
 Place im 14. Bezirk statt.</p><p><strong>Wassertemperatur 28 Grad</strong><
 /p>
CONTACT:penzing@vhs.at
X-EXTRAINFO:[preis='4550'][anmeldung='true']
DTSTAMP:20260423T144010
DTSTART:20190315T110000
DTEND:20190315T120000
SEQUENCE:0
TRANSP:OPAQUE
END:VEVENT
END:VCALENDAR