BEGIN:VCALENDAR
VERSION:2.0
PRODID:-//jEvents 2.0 for Joomla//EN
CALSCALE:GREGORIAN
METHOD:PUBLISH
BEGIN:VEVENT
UID:ef9916f8f6db108903a6dcbdcf07ab33
CATEGORIES:14. Bezirk
CREATED:20190201T164130
SUMMARY:Aquafitness für Schwangere
LOCATION:Holmes Place\, Hütteldorfer Straße 130A\, 1140 Wien
DESCRIPTION:<p>Diese besonders schonende Bewegungsform für Schwangere wird im brusthohe
 n Wasser ausgeführt und hält Beweglichkeit sowie Leistungsfähigkeit aufrech
 t. Der hydrostatische Druck des Wassers verstärkt den positiven Trainingsef
 fekt und wirkt sich günstig auf die Blutgefäße aus. Die Massagewirkung regt
  die Durchblutung von Muskeln, Haut und Bindegewebe an und strafft das Gewe
 be. Dieser Kurs findet 7x immer freitags von 12:00 bis 13:00 Uhr im Holmes 
 Place im 14. Bezirk statt.</p><p><strong>Wassertemperatur 28 Grad</strong><
 /p>
CONTACT:penzing@vhs.at
X-EXTRAINFO:[preis='4550'][anmeldung='true']
DTSTAMP:20260423T165805
DTSTART:20190607T100000
DTEND:20190607T110000
SEQUENCE:0
TRANSP:OPAQUE
END:VEVENT
END:VCALENDAR