BEGIN:VCALENDAR
VERSION:2.0
PRODID:-//jEvents 2.0 for Joomla//EN
CALSCALE:GREGORIAN
METHOD:PUBLISH
BEGIN:VEVENT
UID:23727b27f72d7a62f21b80f469379ecd
CATEGORIES:21. Bezirk
CREATED:20190205T121854
SUMMARY:Spielgruppe 1-1,5 Jahre(im littlesuns)
LOCATION:littlesuns\, Donaufelderstrasse 102/2
DESCRIPTION:www.littlesuns.at (http://www.littlesuns.at)\n
X-ALT-DESC;FMTTYPE=text/html:<p><a href="http://www.littlesuns.at">www.littlesuns.at</a></p>
CONTACT:www.littlesuns.at/06645274715/info@littlesuns.at
X-EXTRAINFO:[preis='000'][anmeldung='true']
DTSTAMP:20260423T182135
DTSTART:20190401T120000
DTEND:20190401T133000
SEQUENCE:0
TRANSP:OPAQUE
END:VEVENT
END:VCALENDAR