BEGIN:VCALENDAR
VERSION:2.0
PRODID:-//jEvents 2.0 for Joomla//EN
CALSCALE:GREGORIAN
METHOD:PUBLISH
BEGIN:VEVENT
UID:78b127d8655c58a2aa653fdfd6bcaff4
CATEGORIES:19. Bezirk
CREATED:20190206T140456
SUMMARY:Frauen und Mütter – Schöpferinnen und Heldinnen des Alltags
LOCATION:Gesundheitszentrum am Sonnberg\, Obkirchergasse 3/12\, 3. Stock\, 1190 Wien
DESCRIPTION:Workshop mit mal- und gestaltungstherapeutischen Methoden\nEs geht um Dich 
 als Frau und/oder Mutter – mit all Deinen Wünschen, Sehnsüchten, Gedanken u
 nd Bedürfnissen\n\nEine kreative Auszeit zum \n....Entspannen, träumen, Kra
 ft schöpfen, kreativ sein \n....Geniessen und Leichtigkeit erleben\n....Ide
 en und Visionen entwickeln\n....einfach Du sein\n\nEs sind keine künstleris
 chen Erfahrungen oder Kenntnisse erforderlich!\n\n\nWann:              ab 2
 5. Jänner 2019 jeden Montag von 9:30 bis 11:00 Uhr\n                       
 (der Besuch einzelner Termine ist möglich)\nWo:                 im Gesundhe
 itszentrum am Sonnberg\n                       Obkirchergasse 3/12, 3. Stoc
 k,  1190 Wien\nTeilnehmerinnenanzahl: ab 2 Personen\nAnmeldung und weitere 
 Infos unter "ute@sinnbilder.eu" oder 0664-8416611\nwww.sinnbilder.eu\n \n
X-ALT-DESC;FMTTYPE=text/html:<p><strong>Workshop mit mal- und gestaltungstherapeutischen Methoden</stron
 g></p><p>Es geht um Dich als Frau und/oder Mutter – mit all Deinen Wünschen
 , Sehnsüchten, Gedanken und Bedürfnissen</p><p><br />Eine kreative Auszeit 
 zum <br />....Entspannen, träumen, Kraft schöpfen, kreativ sein <br />....G
 eniessen und Leichtigkeit erleben<br />....Ideen und Visionen entwickeln<br
  />....einfach Du sein<br /><br />Es sind keine künstlerischen Erfahrungen 
 oder Kenntnisse erforderlich!<br /><br /></p><p>Wann:              ab 25. J
 änner 2019 jeden Montag von 9:30 bis 11:00 Uhr</p><p>                      
  (der Besuch einzelner Termine ist möglich)<br />Wo:                 im Ges
 undheitszentrum am Sonnberg</p><p>                       Obkirchergasse 3/1
 2, 3. Stock,  1190 Wien</p><p>Teilnehmerinnenanzahl: ab 2 Personen<br />Anm
 eldung und weitere Infos unter "ute@sinnbilder.eu" oder 0664-8416611</p><p>
 www.sinnbilder.eu</p><p> </p>
CONTACT:Ute Riedlmair 0664-8416611
X-EXTRAINFO:[preis='2500'][anmeldung='true']
DTSTAMP:20260424T144113
DTSTART:20190318T083000
DTEND:20190318T100000
SEQUENCE:0
TRANSP:OPAQUE
END:VEVENT
END:VCALENDAR