BEGIN:VCALENDAR
VERSION:2.0
PRODID:-//jEvents 2.0 for Joomla//EN
CALSCALE:GREGORIAN
METHOD:PUBLISH
BEGIN:VEVENT
UID:6647aa96fc7cfff130e6165c71d6e173
CATEGORIES:7. Bezirk
CREATED:20190207T132556
SUMMARY:Babys & Musik - Musikspielgruppe
LOCATION:Nanaya\, Zollergasse 37\, 1070 Wien
DESCRIPTION:<p>Musikspielgruppe für Mütter mit Babys zwischen 2 und 7 Monaten</p><p>Bab
 ys kommen mit vielen musikalischen Erfahrungen auf die Welt. Der gleichmäßi
 ge Herzschlag ihrer Mutter ist den Babys wohl vertraut, auch den Klang der 
 Stimmen können Babys schnell unterscheiden. An dieses Wissen wollen wir ank
 nüpfen und mithilfe der Musik in ein lebendiges Miteinander eintauchen.</p>
 <p>In einer gemütlichen Atmosphäre werden bekannte Kinderlieder und Fingers
 piele entdeckt und neue Melodien kennengelernt. Einfache Kreistänze bringen
  uns in ein rhythmisch-bewegtes Miteinander. Wiegen, Kuscheln und Ruhepause
 n haben ebenso Platz wie gemeinsame Bewegung und Aktivität.</p><p>Kurstermi
 ne:</p><p>21.03.19 von 11:30-13:00 Uhr<br />28.03.19 von 11:30-13:00 Uhr<br
  />04.04.19 von 11:30-13:00 Uhr<br />11.04.19 von 11:30-13:00 Uhr<br />02.0
 5.19 von 11:30-13:00 Uhr<br />09.05.19 von 11:30-13:00 Uhr<br />16.05.19 vo
 n 11:30-13:00 Uhr<br />23.05.19 von 11:30-13:00 Uhr<br />06.06.19 von 11:30
 -13:00 Uhr<br />13.06.19 von 11:30-13:00 Uhr</p><p> </p><p>Ermäßigung für N
 anaya-Mitglieder!</p>
CONTACT:01/ 523 17 11   rundumgeburt@nanaya.at
X-EXTRAINFO:[preis='10200'][anmeldung='true']
DTSTAMP:20260424T152649
DTSTART:20190523T093000
DTEND:20190523T110000
SEQUENCE:0
TRANSP:OPAQUE
END:VEVENT
END:VCALENDAR