BEGIN:VCALENDAR
VERSION:2.0
PRODID:-//jEvents 2.0 for Joomla//EN
CALSCALE:GREGORIAN
METHOD:PUBLISH
BEGIN:VEVENT
UID:8e51e656d8e17fe9c0e1a12b19f1296d
CATEGORIES:19. Bezirk
CREATED:20190212T010243
SUMMARY:Schwangerschaftsyoga PK Döbling
LOCATION:Privatklinik Wien Döbling
DESCRIPTION:<p><strong>Schwangerschaftsyoga - Starte jetzt in kleiner familiärerer Grup
 pe in der PK Döbling!</strong></p><p>Bereite dich optimal auf die Geburt de
 ines Kindes vor und genieße die besondere Zeit für dich und dein Baby. Offe
 ne Klassen, Einstieg jederzeit möglich unter <a href="http://www.yun-yoga.c
 om/termine">www.yun-yoga.com/termine</a></p><p>Die Schwangerschaft ist die 
 beste Zeit um mit Yoga zu beginnen! </p><p>Du kannst vielen Beschwerden zuv
 or kommen oder entgegen wirken, und eine leichtere Geburt ermöglichen. Übe 
 nach der Geburt mit Baby weiter, um schneller wieder in Form zu kommen.</p>
 <p>Klasse im Yogaraum der Privatklinik Döbling (Neubau), Heiligenstädterstr
 aße 48.</p><p>Bei Fragen: Marie Theres Wolfram Tel. 0660 964 964 0</p><p> <
 /p><p>Schnuppern € 10.-</p>
CONTACT:Marie Theres Wolfram 0660 964 964 0
X-EXTRAINFO:[preis='1000'][anmeldung='false']
DTSTAMP:20260424T144846
DTSTART:20190604T144500
DTEND:20190604T154500
SEQUENCE:0
TRANSP:OPAQUE
END:VEVENT
END:VCALENDAR