BEGIN:VCALENDAR
VERSION:2.0
PRODID:-//jEvents 2.0 for Joomla//EN
CALSCALE:GREGORIAN
METHOD:PUBLISH
BEGIN:VEVENT
UID:f9a2e7d6226e215b20df170e3038c5cc
CATEGORIES:6. Bezirk
CREATED:20190213T095905
SUMMARY:Yoga für Schwangere - Einstieg jederzeit 
LOCATION:Biolino\, Sandwirtgasse 13/12\, 1060 Wien
DESCRIPTION:WARUM (Pränatal) YOGA für Schwangere?? \n Wir kombinieren entspannende Dehn
 ungsübungen mit ruhigen, kräftigenden Asanas, die deinen Kreislauf unterstü
 tzen und deine Atmung vertiefen. Meditationen und Tönungsübungen stärken da
 s Vertrauen in deine innere Kraft und deinen Körper.„Yoga für Schwangere“ k
 ann dir helfen, Ängste vor der Geburt zu nehmen. Die Auswirkungen einer reg
 elmäßigen Yogapraxis beeinflussen nicht nur die Schwangerschaft, sondern au
 ch den Geburtsverlauf und das Wochenbett. Yoga für Schwangere ist konzipier
 t für werdende Mütter mit oder ohne Yogaerfahrung. Beweglichkeit, Kraft und
  Ausdauer werden gefördert. Mit geführter Meditation, Atem- und Stimmübunge
 n wird die Körper- und Geistesbene als Ganzes angesprochen Asanas dienen so
 wohl der gesundheitlichen Unterstützung während der Schwangerschaft, als au
 ch als Vorbereitung für die Geburt, um im richtigen Moment loslassen zu kön
 nen.Vielen werdenden Müttern dient der Kurs auch zum regelmäßigen Austausch
  über sämtliche Themen der Schwangerschaft und bevorstehenden Mutterschaft.
  „Yoga für Schwangere“ ist sowohl für Anfängerinnen als auch für Fortgeschr
 ittene Yoginis geeignet, da die Übungen den individuellen Bedürfnissen der 
 Teilnehmerinnen angepasst werden. Yoga kann während der gesamten Schwangers
 chaft praktiziert werden, empfehlenswert ist die Teilnahme bereits ab der 1
 2.SSW. „Yoga für Schwangere“ begleitet dich als werdende Mutter von Anfang 
 an bis zur Geburt. Und „Yoga für Schwangere“ ist Ruhe und Zeit für DICH und
  DEIN BABY. Termineab 19.2. 2019, jeweils dienstags um 18:30 UHR an der U4 
 PILGRAMGASSE!!!! im Biolino in der Sandwirtgasse 13/12, 1060 Wien, im Hof h
 inten links Bitte um Anmeldung: www.yogavibe.at  
X-ALT-DESC;FMTTYPE=text/html:<p>WARUM (Pränatal) YOGA für Schwangere?? </p><div class="" data-block="tru
 e" data-editor="7n1ob" data-offset-key="b0lnh-0-0"><div class="_1mf _1mj" d
 ata-offset-key="b0lnh-0-0"><span data-offset-key="b0lnh-0-0"> </span></div>
 </div><div class="" data-block="true" data-editor="7n1ob" data-offset-key="
 1nmde-0-0"><div class="_1mf _1mj" data-offset-key="1nmde-0-0"><span data-of
 fset-key="1nmde-0-0">Wir kombinieren entspannende Dehnungsübungen mit ruhig
 en, kräftigenden Asanas, die deinen Kreislauf unterstützen und deine Atmung
  vertiefen. </span></div></div><div class="" data-block="true" data-editor=
 "7n1ob" data-offset-key="uarq-0-0"><div class="_1mf _1mj" data-offset-key="
 uarq-0-0"><span data-offset-key="uarq-0-0">Meditationen und Tönungsübungen 
 stärken das Vertrauen in deine innere Kraft und deinen Körper.</span></div>
 </div><div class="" data-block="true" data-editor="7n1ob" data-offset-key="
 62t2-0-0"><div class="_1mf _1mj" data-offset-key="62t2-0-0"><span data-offs
 et-key="62t2-0-0">„Yoga für Schwangere“ kann dir helfen, Ängste vor der Geb
 urt zu nehmen. Die Auswirkungen einer regelmäßigen Yogapraxis beeinflussen 
 nicht nur die Schwangerschaft, sondern auch den Geburtsverlauf und das Woch
 enbett. </span></div></div><div class="" data-block="true" data-editor="7n1
 ob" data-offset-key="cr19l-0-0"><div class="_1mf _1mj" data-offset-key="cr1
 9l-0-0"><span data-offset-key="cr19l-0-0">Yoga für Schwangere ist konzipier
 t für werdende Mütter mit oder ohne Yogaerfahrung. Beweglichkeit, Kraft und
  Ausdauer werden gefördert. Mit geführter Meditation, Atem- und Stimmübunge
 n wird die Körper- und Geistesbene als Ganzes angesprochen Asanas dienen so
 wohl der gesundheitlichen Unterstützung während der Schwangerschaft, als au
 ch als Vorbereitung für die Geburt, um im richtigen Moment loslassen zu kön
 nen.</span></div></div><div class="" data-block="true" data-editor="7n1ob" 
 data-offset-key="cnvnm-0-0"><div class="_1mf _1mj" data-offset-key="cnvnm-0
 -0"><span data-offset-key="cnvnm-0-0">Vielen werdenden Müttern dient der Ku
 rs auch zum regelmäßigen Austausch über sämtliche Themen der Schwangerschaf
 t und bevorstehenden Mutterschaft. „Yoga für Schwangere“ ist sowohl für Anf
 ängerinnen als auch für Fortgeschrittene Yoginis geeignet, da die Übungen d
 en individuellen Bedürfnissen der Teilnehmerinnen angepasst werden. Yoga ka
 nn während der gesamten Schwangerschaft praktiziert werden, empfehlenswert 
 ist die Teilnahme bereits ab der 12.SSW. „Yoga für Schwangere“ begleitet di
 ch als werdende Mutter von Anfang an bis zur Geburt. Und „Yoga für Schwange
 re“ ist Ruhe und Zeit für DICH und DEIN BABY.</span></div></div><div class=
 "" data-block="true" data-editor="7n1ob" data-offset-key="5qafa-0-0"><div c
 lass="_1mf _1mj" data-offset-key="5qafa-0-0"><span data-offset-key="5qafa-0
 -0"> </span></div></div><div class="" data-block="true" data-editor="7n1ob"
  data-offset-key="rj96-0-0"><div class="_1mf _1mj" data-offset-key="rj96-0-
 0"><span data-offset-key="rj96-0-0">Termine</span></div></div><div class=""
  data-block="true" data-editor="7n1ob" data-offset-key="67pe6-0-0"><div cla
 ss="_1mf _1mj" data-offset-key="67pe6-0-0"><span data-offset-key="67pe6-0-0
 ">ab 19.2. 2019, jeweils dienstags um 18:30 UHR an der U4 PILGRAMGASSE!!!! 
 im Biolino in der Sandwirtgasse 13/12, 1060 Wien, im Hof hinten links</span
 ></div><div class="_1mf _1mj" data-offset-key="67pe6-0-0"> </div><div class
 ="_1mf _1mj" data-offset-key="67pe6-0-0"><span data-offset-key="67pe6-0-0">
 Bitte um Anmeldung: www.yogavibe.at</span></div></div><div class="" data-bl
 ock="true" data-editor="7n1ob" data-offset-key="ejf6a-0-0"> </div><div clas
 s="" data-block="true" data-editor="7n1ob" data-offset-key="f766e-0-0"> </d
 iv>
CONTACT:06644023647 www.yogavibe.at
X-EXTRAINFO:[preis='1500'][anmeldung='true']
DTSTAMP:20260423T182130
DTSTART:20190305T173000
DTEND:20190305T190000
SEQUENCE:0
TRANSP:OPAQUE
END:VEVENT
END:VCALENDAR